BEGIN:VCALENDAR
VERSION:2.0
PRODID:-//Fahrschule Korn - ECPv6.13.2.1//NONSGML v1.0//EN
CALSCALE:GREGORIAN
METHOD:PUBLISH
X-ORIGINAL-URL:https://www.fahrschule-korn.de
X-WR-CALDESC:Veranstaltungen für Fahrschule Korn
REFRESH-INTERVAL;VALUE=DURATION:PT1H
X-Robots-Tag:noindex
X-PUBLISHED-TTL:PT1H
BEGIN:VTIMEZONE
TZID:Europe/Berlin
BEGIN:DAYLIGHT
TZOFFSETFROM:+0100
TZOFFSETTO:+0200
TZNAME:CEST
DTSTART:20270328T010000
END:DAYLIGHT
BEGIN:STANDARD
TZOFFSETFROM:+0200
TZOFFSETTO:+0100
TZNAME:CET
DTSTART:20271031T010000
END:STANDARD
END:VTIMEZONE
BEGIN:VEVENT
DTSTART;TZID=Europe/Berlin:20270301T180000
DTEND;TZID=Europe/Berlin:20270301T193000
DTSTAMP:20260426T043005
CREATED:20250610T122716Z
LAST-MODIFIED:20250822T091928Z
UID:10002311-1803924000-1803929400@www.fahrschule-korn.de
SUMMARY:LKW
DESCRIPTION:
URL:https://www.fahrschule-korn.de/termin/lkw-2/2027-03-01/
LOCATION:Standort Mühldorf\, Mainstraße 44\, Mühldorf a. Inn\, Bayern\, 84453
CATEGORIES:Klassenspezifischer Unterricht
ORGANIZER;CN="Fahrschule Korn":MAILTO:info@fahrschule-korn.de
END:VEVENT
BEGIN:VEVENT
DTSTART;TZID=Europe/Berlin:20270301T183000
DTEND;TZID=Europe/Berlin:20270301T200000
DTSTAMP:20260426T043005
CREATED:20230404T182725Z
LAST-MODIFIED:20240130T100245Z
UID:10001260-1803925800-1803931200@www.fahrschule-korn.de
SUMMARY:Grundunterricht Buchbach
DESCRIPTION:
URL:https://www.fahrschule-korn.de/termin/grundunterricht-buchbach/2027-03-01/
LOCATION:Standort Buchbach\, Andreas-Strobl-Straße 2\, Buchbach\, Bayern\, 84428
CATEGORIES:Grundunterricht
ORGANIZER;CN="Fahrschule Korn":MAILTO:info@fahrschule-korn.de
END:VEVENT
BEGIN:VEVENT
DTSTART;TZID=Europe/Berlin:20270302T183000
DTEND;TZID=Europe/Berlin:20270302T200000
DTSTAMP:20260426T043005
CREATED:20230404T182551Z
LAST-MODIFIED:20240130T101057Z
UID:10000711-1804012200-1804017600@www.fahrschule-korn.de
SUMMARY:Grundunterricht Mühldorf
DESCRIPTION:
URL:https://www.fahrschule-korn.de/termin/grundunterricht-muehldorf/2027-03-02/
LOCATION:Standort Mühldorf\, Mainstraße 44\, Mühldorf a. Inn\, Bayern\, 84453
CATEGORIES:Grundunterricht
ORGANIZER;CN="Fahrschule Korn":MAILTO:info@fahrschule-korn.de
END:VEVENT
BEGIN:VEVENT
DTSTART;TZID=Europe/Berlin:20270303T180000
DTEND;TZID=Europe/Berlin:20270303T193000
DTSTAMP:20260426T043005
CREATED:20250610T122716Z
LAST-MODIFIED:20250822T091928Z
UID:10002312-1804096800-1804102200@www.fahrschule-korn.de
SUMMARY:LKW
DESCRIPTION:
URL:https://www.fahrschule-korn.de/termin/lkw-2/2027-03-03/
LOCATION:Standort Mühldorf\, Mainstraße 44\, Mühldorf a. Inn\, Bayern\, 84453
CATEGORIES:Klassenspezifischer Unterricht
ORGANIZER;CN="Fahrschule Korn":MAILTO:info@fahrschule-korn.de
END:VEVENT
BEGIN:VEVENT
DTSTART;TZID=Europe/Berlin:20270303T183000
DTEND;TZID=Europe/Berlin:20270303T200000
DTSTAMP:20260426T043005
CREATED:20230404T182725Z
LAST-MODIFIED:20240130T100245Z
UID:10001261-1804098600-1804104000@www.fahrschule-korn.de
SUMMARY:Grundunterricht Buchbach
DESCRIPTION:
URL:https://www.fahrschule-korn.de/termin/grundunterricht-buchbach/2027-03-03/
LOCATION:Standort Buchbach\, Andreas-Strobl-Straße 2\, Buchbach\, Bayern\, 84428
CATEGORIES:Grundunterricht
ORGANIZER;CN="Fahrschule Korn":MAILTO:info@fahrschule-korn.de
END:VEVENT
BEGIN:VEVENT
DTSTART;TZID=Europe/Berlin:20270304T183000
DTEND;TZID=Europe/Berlin:20270304T200000
DTSTAMP:20260426T043005
CREATED:20230404T182551Z
LAST-MODIFIED:20240130T101057Z
UID:10000712-1804185000-1804190400@www.fahrschule-korn.de
SUMMARY:Grundunterricht Mühldorf
DESCRIPTION:
URL:https://www.fahrschule-korn.de/termin/grundunterricht-muehldorf/2027-03-04/
LOCATION:Standort Mühldorf\, Mainstraße 44\, Mühldorf a. Inn\, Bayern\, 84453
CATEGORIES:Grundunterricht
ORGANIZER;CN="Fahrschule Korn":MAILTO:info@fahrschule-korn.de
END:VEVENT
BEGIN:VEVENT
DTSTART;TZID=Europe/Berlin:20270308T180000
DTEND;TZID=Europe/Berlin:20270308T193000
DTSTAMP:20260426T043005
CREATED:20250610T122716Z
LAST-MODIFIED:20250822T091928Z
UID:10002313-1804528800-1804534200@www.fahrschule-korn.de
SUMMARY:LKW
DESCRIPTION:
URL:https://www.fahrschule-korn.de/termin/lkw-2/2027-03-08/
LOCATION:Standort Mühldorf\, Mainstraße 44\, Mühldorf a. Inn\, Bayern\, 84453
CATEGORIES:Klassenspezifischer Unterricht
ORGANIZER;CN="Fahrschule Korn":MAILTO:info@fahrschule-korn.de
END:VEVENT
BEGIN:VEVENT
DTSTART;TZID=Europe/Berlin:20270308T183000
DTEND;TZID=Europe/Berlin:20270308T200000
DTSTAMP:20260426T043005
CREATED:20230404T182725Z
LAST-MODIFIED:20240130T100245Z
UID:10001262-1804530600-1804536000@www.fahrschule-korn.de
SUMMARY:Grundunterricht Buchbach
DESCRIPTION:
URL:https://www.fahrschule-korn.de/termin/grundunterricht-buchbach/2027-03-08/
LOCATION:Standort Buchbach\, Andreas-Strobl-Straße 2\, Buchbach\, Bayern\, 84428
CATEGORIES:Grundunterricht
ORGANIZER;CN="Fahrschule Korn":MAILTO:info@fahrschule-korn.de
END:VEVENT
BEGIN:VEVENT
DTSTART;TZID=Europe/Berlin:20270309T183000
DTEND;TZID=Europe/Berlin:20270309T200000
DTSTAMP:20260426T043005
CREATED:20230404T182551Z
LAST-MODIFIED:20240130T101057Z
UID:10000713-1804617000-1804622400@www.fahrschule-korn.de
SUMMARY:Grundunterricht Mühldorf
DESCRIPTION:
URL:https://www.fahrschule-korn.de/termin/grundunterricht-muehldorf/2027-03-09/
LOCATION:Standort Mühldorf\, Mainstraße 44\, Mühldorf a. Inn\, Bayern\, 84453
CATEGORIES:Grundunterricht
ORGANIZER;CN="Fahrschule Korn":MAILTO:info@fahrschule-korn.de
END:VEVENT
BEGIN:VEVENT
DTSTART;TZID=Europe/Berlin:20270310T180000
DTEND;TZID=Europe/Berlin:20270310T193000
DTSTAMP:20260426T043005
CREATED:20250610T122716Z
LAST-MODIFIED:20250822T091928Z
UID:10002314-1804701600-1804707000@www.fahrschule-korn.de
SUMMARY:LKW
DESCRIPTION:
URL:https://www.fahrschule-korn.de/termin/lkw-2/2027-03-10/
LOCATION:Standort Mühldorf\, Mainstraße 44\, Mühldorf a. Inn\, Bayern\, 84453
CATEGORIES:Klassenspezifischer Unterricht
ORGANIZER;CN="Fahrschule Korn":MAILTO:info@fahrschule-korn.de
END:VEVENT
BEGIN:VEVENT
DTSTART;TZID=Europe/Berlin:20270310T183000
DTEND;TZID=Europe/Berlin:20270310T200000
DTSTAMP:20260426T043005
CREATED:20230404T182725Z
LAST-MODIFIED:20240130T100245Z
UID:10001263-1804703400-1804708800@www.fahrschule-korn.de
SUMMARY:Grundunterricht Buchbach
DESCRIPTION:
URL:https://www.fahrschule-korn.de/termin/grundunterricht-buchbach/2027-03-10/
LOCATION:Standort Buchbach\, Andreas-Strobl-Straße 2\, Buchbach\, Bayern\, 84428
CATEGORIES:Grundunterricht
ORGANIZER;CN="Fahrschule Korn":MAILTO:info@fahrschule-korn.de
END:VEVENT
BEGIN:VEVENT
DTSTART;TZID=Europe/Berlin:20270311T183000
DTEND;TZID=Europe/Berlin:20270311T200000
DTSTAMP:20260426T043005
CREATED:20230404T182551Z
LAST-MODIFIED:20240130T101057Z
UID:10000714-1804789800-1804795200@www.fahrschule-korn.de
SUMMARY:Grundunterricht Mühldorf
DESCRIPTION:
URL:https://www.fahrschule-korn.de/termin/grundunterricht-muehldorf/2027-03-11/
LOCATION:Standort Mühldorf\, Mainstraße 44\, Mühldorf a. Inn\, Bayern\, 84453
CATEGORIES:Grundunterricht
ORGANIZER;CN="Fahrschule Korn":MAILTO:info@fahrschule-korn.de
END:VEVENT
BEGIN:VEVENT
DTSTART;TZID=Europe/Berlin:20270315T180000
DTEND;TZID=Europe/Berlin:20270315T193000
DTSTAMP:20260426T043005
CREATED:20250610T122716Z
LAST-MODIFIED:20250822T091928Z
UID:10002315-1805133600-1805139000@www.fahrschule-korn.de
SUMMARY:LKW
DESCRIPTION:
URL:https://www.fahrschule-korn.de/termin/lkw-2/2027-03-15/
LOCATION:Standort Mühldorf\, Mainstraße 44\, Mühldorf a. Inn\, Bayern\, 84453
CATEGORIES:Klassenspezifischer Unterricht
ORGANIZER;CN="Fahrschule Korn":MAILTO:info@fahrschule-korn.de
END:VEVENT
BEGIN:VEVENT
DTSTART;TZID=Europe/Berlin:20270315T183000
DTEND;TZID=Europe/Berlin:20270315T200000
DTSTAMP:20260426T043005
CREATED:20230404T182725Z
LAST-MODIFIED:20240130T100245Z
UID:10001264-1805135400-1805140800@www.fahrschule-korn.de
SUMMARY:Grundunterricht Buchbach
DESCRIPTION:
URL:https://www.fahrschule-korn.de/termin/grundunterricht-buchbach/2027-03-15/
LOCATION:Standort Buchbach\, Andreas-Strobl-Straße 2\, Buchbach\, Bayern\, 84428
CATEGORIES:Grundunterricht
ORGANIZER;CN="Fahrschule Korn":MAILTO:info@fahrschule-korn.de
END:VEVENT
BEGIN:VEVENT
DTSTART;TZID=Europe/Berlin:20270316T183000
DTEND;TZID=Europe/Berlin:20270316T200000
DTSTAMP:20260426T043005
CREATED:20230404T182551Z
LAST-MODIFIED:20240130T101057Z
UID:10000715-1805221800-1805227200@www.fahrschule-korn.de
SUMMARY:Grundunterricht Mühldorf
DESCRIPTION:
URL:https://www.fahrschule-korn.de/termin/grundunterricht-muehldorf/2027-03-16/
LOCATION:Standort Mühldorf\, Mainstraße 44\, Mühldorf a. Inn\, Bayern\, 84453
CATEGORIES:Grundunterricht
ORGANIZER;CN="Fahrschule Korn":MAILTO:info@fahrschule-korn.de
END:VEVENT
BEGIN:VEVENT
DTSTART;TZID=Europe/Berlin:20270317T180000
DTEND;TZID=Europe/Berlin:20270317T193000
DTSTAMP:20260426T043005
CREATED:20250610T122716Z
LAST-MODIFIED:20250822T091928Z
UID:10002316-1805306400-1805311800@www.fahrschule-korn.de
SUMMARY:LKW
DESCRIPTION:
URL:https://www.fahrschule-korn.de/termin/lkw-2/2027-03-17/
LOCATION:Standort Mühldorf\, Mainstraße 44\, Mühldorf a. Inn\, Bayern\, 84453
CATEGORIES:Klassenspezifischer Unterricht
ORGANIZER;CN="Fahrschule Korn":MAILTO:info@fahrschule-korn.de
END:VEVENT
BEGIN:VEVENT
DTSTART;TZID=Europe/Berlin:20270317T183000
DTEND;TZID=Europe/Berlin:20270317T200000
DTSTAMP:20260426T043005
CREATED:20230404T182725Z
LAST-MODIFIED:20240130T100245Z
UID:10001265-1805308200-1805313600@www.fahrschule-korn.de
SUMMARY:Grundunterricht Buchbach
DESCRIPTION:
URL:https://www.fahrschule-korn.de/termin/grundunterricht-buchbach/2027-03-17/
LOCATION:Standort Buchbach\, Andreas-Strobl-Straße 2\, Buchbach\, Bayern\, 84428
CATEGORIES:Grundunterricht
ORGANIZER;CN="Fahrschule Korn":MAILTO:info@fahrschule-korn.de
END:VEVENT
BEGIN:VEVENT
DTSTART;TZID=Europe/Berlin:20270318T183000
DTEND;TZID=Europe/Berlin:20270318T200000
DTSTAMP:20260426T043005
CREATED:20230404T182551Z
LAST-MODIFIED:20240130T101057Z
UID:10000716-1805394600-1805400000@www.fahrschule-korn.de
SUMMARY:Grundunterricht Mühldorf
DESCRIPTION:
URL:https://www.fahrschule-korn.de/termin/grundunterricht-muehldorf/2027-03-18/
LOCATION:Standort Mühldorf\, Mainstraße 44\, Mühldorf a. Inn\, Bayern\, 84453
CATEGORIES:Grundunterricht
ORGANIZER;CN="Fahrschule Korn":MAILTO:info@fahrschule-korn.de
END:VEVENT
BEGIN:VEVENT
DTSTART;TZID=Europe/Berlin:20270322T180000
DTEND;TZID=Europe/Berlin:20270322T193000
DTSTAMP:20260426T043005
CREATED:20250610T122716Z
LAST-MODIFIED:20250822T091928Z
UID:10002317-1805738400-1805743800@www.fahrschule-korn.de
SUMMARY:LKW
DESCRIPTION:
URL:https://www.fahrschule-korn.de/termin/lkw-2/2027-03-22/
LOCATION:Standort Mühldorf\, Mainstraße 44\, Mühldorf a. Inn\, Bayern\, 84453
CATEGORIES:Klassenspezifischer Unterricht
ORGANIZER;CN="Fahrschule Korn":MAILTO:info@fahrschule-korn.de
END:VEVENT
BEGIN:VEVENT
DTSTART;TZID=Europe/Berlin:20270322T183000
DTEND;TZID=Europe/Berlin:20270322T200000
DTSTAMP:20260426T043005
CREATED:20230404T182725Z
LAST-MODIFIED:20240130T100245Z
UID:10001266-1805740200-1805745600@www.fahrschule-korn.de
SUMMARY:Grundunterricht Buchbach
DESCRIPTION:
URL:https://www.fahrschule-korn.de/termin/grundunterricht-buchbach/2027-03-22/
LOCATION:Standort Buchbach\, Andreas-Strobl-Straße 2\, Buchbach\, Bayern\, 84428
CATEGORIES:Grundunterricht
ORGANIZER;CN="Fahrschule Korn":MAILTO:info@fahrschule-korn.de
END:VEVENT
BEGIN:VEVENT
DTSTART;TZID=Europe/Berlin:20270323T183000
DTEND;TZID=Europe/Berlin:20270323T200000
DTSTAMP:20260426T043005
CREATED:20230404T182551Z
LAST-MODIFIED:20240130T101057Z
UID:10000717-1805826600-1805832000@www.fahrschule-korn.de
SUMMARY:Grundunterricht Mühldorf
DESCRIPTION:
URL:https://www.fahrschule-korn.de/termin/grundunterricht-muehldorf/2027-03-23/
LOCATION:Standort Mühldorf\, Mainstraße 44\, Mühldorf a. Inn\, Bayern\, 84453
CATEGORIES:Grundunterricht
ORGANIZER;CN="Fahrschule Korn":MAILTO:info@fahrschule-korn.de
END:VEVENT
BEGIN:VEVENT
DTSTART;TZID=Europe/Berlin:20270324T180000
DTEND;TZID=Europe/Berlin:20270324T193000
DTSTAMP:20260426T043005
CREATED:20250610T122716Z
LAST-MODIFIED:20250822T091928Z
UID:10002318-1805911200-1805916600@www.fahrschule-korn.de
SUMMARY:LKW
DESCRIPTION:
URL:https://www.fahrschule-korn.de/termin/lkw-2/2027-03-24/
LOCATION:Standort Mühldorf\, Mainstraße 44\, Mühldorf a. Inn\, Bayern\, 84453
CATEGORIES:Klassenspezifischer Unterricht
ORGANIZER;CN="Fahrschule Korn":MAILTO:info@fahrschule-korn.de
END:VEVENT
BEGIN:VEVENT
DTSTART;TZID=Europe/Berlin:20270324T183000
DTEND;TZID=Europe/Berlin:20270324T200000
DTSTAMP:20260426T043005
CREATED:20230404T182725Z
LAST-MODIFIED:20240130T100245Z
UID:10001267-1805913000-1805918400@www.fahrschule-korn.de
SUMMARY:Grundunterricht Buchbach
DESCRIPTION:
URL:https://www.fahrschule-korn.de/termin/grundunterricht-buchbach/2027-03-24/
LOCATION:Standort Buchbach\, Andreas-Strobl-Straße 2\, Buchbach\, Bayern\, 84428
CATEGORIES:Grundunterricht
ORGANIZER;CN="Fahrschule Korn":MAILTO:info@fahrschule-korn.de
END:VEVENT
BEGIN:VEVENT
DTSTART;TZID=Europe/Berlin:20270325T183000
DTEND;TZID=Europe/Berlin:20270325T200000
DTSTAMP:20260426T043005
CREATED:20230404T182551Z
LAST-MODIFIED:20240130T101057Z
UID:10000718-1805999400-1806004800@www.fahrschule-korn.de
SUMMARY:Grundunterricht Mühldorf
DESCRIPTION:
URL:https://www.fahrschule-korn.de/termin/grundunterricht-muehldorf/2027-03-25/
LOCATION:Standort Mühldorf\, Mainstraße 44\, Mühldorf a. Inn\, Bayern\, 84453
CATEGORIES:Grundunterricht
ORGANIZER;CN="Fahrschule Korn":MAILTO:info@fahrschule-korn.de
END:VEVENT
BEGIN:VEVENT
DTSTART;TZID=Europe/Berlin:20270329T180000
DTEND;TZID=Europe/Berlin:20270329T193000
DTSTAMP:20260426T043005
CREATED:20250610T122716Z
LAST-MODIFIED:20250822T091928Z
UID:10002319-1806343200-1806348600@www.fahrschule-korn.de
SUMMARY:LKW
DESCRIPTION:
URL:https://www.fahrschule-korn.de/termin/lkw-2/2027-03-29/
LOCATION:Standort Mühldorf\, Mainstraße 44\, Mühldorf a. Inn\, Bayern\, 84453
CATEGORIES:Klassenspezifischer Unterricht
ORGANIZER;CN="Fahrschule Korn":MAILTO:info@fahrschule-korn.de
END:VEVENT
BEGIN:VEVENT
DTSTART;TZID=Europe/Berlin:20270329T183000
DTEND;TZID=Europe/Berlin:20270329T200000
DTSTAMP:20260426T043005
CREATED:20230404T182725Z
LAST-MODIFIED:20240130T100245Z
UID:10001268-1806345000-1806350400@www.fahrschule-korn.de
SUMMARY:Grundunterricht Buchbach
DESCRIPTION:
URL:https://www.fahrschule-korn.de/termin/grundunterricht-buchbach/2027-03-29/
LOCATION:Standort Buchbach\, Andreas-Strobl-Straße 2\, Buchbach\, Bayern\, 84428
CATEGORIES:Grundunterricht
ORGANIZER;CN="Fahrschule Korn":MAILTO:info@fahrschule-korn.de
END:VEVENT
BEGIN:VEVENT
DTSTART;TZID=Europe/Berlin:20270330T183000
DTEND;TZID=Europe/Berlin:20270330T200000
DTSTAMP:20260426T043005
CREATED:20230404T182551Z
LAST-MODIFIED:20240130T101057Z
UID:10000719-1806431400-1806436800@www.fahrschule-korn.de
SUMMARY:Grundunterricht Mühldorf
DESCRIPTION:
URL:https://www.fahrschule-korn.de/termin/grundunterricht-muehldorf/2027-03-30/
LOCATION:Standort Mühldorf\, Mainstraße 44\, Mühldorf a. Inn\, Bayern\, 84453
CATEGORIES:Grundunterricht
ORGANIZER;CN="Fahrschule Korn":MAILTO:info@fahrschule-korn.de
END:VEVENT
BEGIN:VEVENT
DTSTART;TZID=Europe/Berlin:20270331T180000
DTEND;TZID=Europe/Berlin:20270331T193000
DTSTAMP:20260426T043005
CREATED:20250610T122716Z
LAST-MODIFIED:20250822T091928Z
UID:10002320-1806516000-1806521400@www.fahrschule-korn.de
SUMMARY:LKW
DESCRIPTION:
URL:https://www.fahrschule-korn.de/termin/lkw-2/2027-03-31/
LOCATION:Standort Mühldorf\, Mainstraße 44\, Mühldorf a. Inn\, Bayern\, 84453
CATEGORIES:Klassenspezifischer Unterricht
ORGANIZER;CN="Fahrschule Korn":MAILTO:info@fahrschule-korn.de
END:VEVENT
BEGIN:VEVENT
DTSTART;TZID=Europe/Berlin:20270331T183000
DTEND;TZID=Europe/Berlin:20270331T200000
DTSTAMP:20260426T043005
CREATED:20230404T182725Z
LAST-MODIFIED:20240130T100245Z
UID:10001269-1806517800-1806523200@www.fahrschule-korn.de
SUMMARY:Grundunterricht Buchbach
DESCRIPTION:
URL:https://www.fahrschule-korn.de/termin/grundunterricht-buchbach/2027-03-31/
LOCATION:Standort Buchbach\, Andreas-Strobl-Straße 2\, Buchbach\, Bayern\, 84428
CATEGORIES:Grundunterricht
ORGANIZER;CN="Fahrschule Korn":MAILTO:info@fahrschule-korn.de
END:VEVENT
END:VCALENDAR