BEGIN:VCALENDAR
VERSION:2.0
PRODID:-//Fahrschule Korn - ECPv6.13.2.1//NONSGML v1.0//EN
CALSCALE:GREGORIAN
METHOD:PUBLISH
X-ORIGINAL-URL:https://www.fahrschule-korn.de
X-WR-CALDESC:Veranstaltungen für Fahrschule Korn
REFRESH-INTERVAL;VALUE=DURATION:PT1H
X-Robots-Tag:noindex
X-PUBLISHED-TTL:PT1H
BEGIN:VTIMEZONE
TZID:Europe/Berlin
BEGIN:DAYLIGHT
TZOFFSETFROM:+0100
TZOFFSETTO:+0200
TZNAME:CEST
DTSTART:20260329T010000
END:DAYLIGHT
BEGIN:STANDARD
TZOFFSETFROM:+0200
TZOFFSETTO:+0100
TZNAME:CET
DTSTART:20261025T010000
END:STANDARD
END:VTIMEZONE
BEGIN:VEVENT
DTSTART;TZID=Europe/Berlin:20260901T183000
DTEND;TZID=Europe/Berlin:20260901T200000
DTSTAMP:20260425T175648
CREATED:20230404T182551Z
LAST-MODIFIED:20240130T101057Z
UID:10000659-1788287400-1788292800@www.fahrschule-korn.de
SUMMARY:Grundunterricht Mühldorf
DESCRIPTION:
URL:https://www.fahrschule-korn.de/termin/grundunterricht-muehldorf/2026-09-01/
LOCATION:Standort Mühldorf\, Mainstraße 44\, Mühldorf a. Inn\, Bayern\, 84453
CATEGORIES:Grundunterricht
ORGANIZER;CN="Fahrschule Korn":MAILTO:info@fahrschule-korn.de
END:VEVENT
BEGIN:VEVENT
DTSTART;TZID=Europe/Berlin:20260902T180000
DTEND;TZID=Europe/Berlin:20260902T193000
DTSTAMP:20260425T175648
CREATED:20250610T122716Z
LAST-MODIFIED:20250822T091928Z
UID:10002260-1788372000-1788377400@www.fahrschule-korn.de
SUMMARY:LKW
DESCRIPTION:
URL:https://www.fahrschule-korn.de/termin/lkw-2/2026-09-02/
LOCATION:Standort Mühldorf\, Mainstraße 44\, Mühldorf a. Inn\, Bayern\, 84453
CATEGORIES:Klassenspezifischer Unterricht
ORGANIZER;CN="Fahrschule Korn":MAILTO:info@fahrschule-korn.de
END:VEVENT
BEGIN:VEVENT
DTSTART;TZID=Europe/Berlin:20260902T183000
DTEND;TZID=Europe/Berlin:20260902T200000
DTSTAMP:20260425T175648
CREATED:20230404T182725Z
LAST-MODIFIED:20240130T100245Z
UID:10001209-1788373800-1788379200@www.fahrschule-korn.de
SUMMARY:Grundunterricht Buchbach
DESCRIPTION:
URL:https://www.fahrschule-korn.de/termin/grundunterricht-buchbach/2026-09-02/
LOCATION:Standort Buchbach\, Andreas-Strobl-Straße 2\, Buchbach\, Bayern\, 84428
CATEGORIES:Grundunterricht
ORGANIZER;CN="Fahrschule Korn":MAILTO:info@fahrschule-korn.de
END:VEVENT
BEGIN:VEVENT
DTSTART;TZID=Europe/Berlin:20260903T183000
DTEND;TZID=Europe/Berlin:20260903T200000
DTSTAMP:20260425T175648
CREATED:20230404T182551Z
LAST-MODIFIED:20240130T101057Z
UID:10000660-1788460200-1788465600@www.fahrschule-korn.de
SUMMARY:Grundunterricht Mühldorf
DESCRIPTION:
URL:https://www.fahrschule-korn.de/termin/grundunterricht-muehldorf/2026-09-03/
LOCATION:Standort Mühldorf\, Mainstraße 44\, Mühldorf a. Inn\, Bayern\, 84453
CATEGORIES:Grundunterricht
ORGANIZER;CN="Fahrschule Korn":MAILTO:info@fahrschule-korn.de
END:VEVENT
BEGIN:VEVENT
DTSTART;TZID=Europe/Berlin:20260907T180000
DTEND;TZID=Europe/Berlin:20260907T193000
DTSTAMP:20260425T175648
CREATED:20250610T122716Z
LAST-MODIFIED:20250822T091928Z
UID:10002261-1788804000-1788809400@www.fahrschule-korn.de
SUMMARY:LKW
DESCRIPTION:
URL:https://www.fahrschule-korn.de/termin/lkw-2/2026-09-07/
LOCATION:Standort Mühldorf\, Mainstraße 44\, Mühldorf a. Inn\, Bayern\, 84453
CATEGORIES:Klassenspezifischer Unterricht
ORGANIZER;CN="Fahrschule Korn":MAILTO:info@fahrschule-korn.de
END:VEVENT
BEGIN:VEVENT
DTSTART;TZID=Europe/Berlin:20260907T183000
DTEND;TZID=Europe/Berlin:20260907T200000
DTSTAMP:20260425T175648
CREATED:20230404T182725Z
LAST-MODIFIED:20240130T100245Z
UID:10001210-1788805800-1788811200@www.fahrschule-korn.de
SUMMARY:Grundunterricht Buchbach
DESCRIPTION:
URL:https://www.fahrschule-korn.de/termin/grundunterricht-buchbach/2026-09-07/
LOCATION:Standort Buchbach\, Andreas-Strobl-Straße 2\, Buchbach\, Bayern\, 84428
CATEGORIES:Grundunterricht
ORGANIZER;CN="Fahrschule Korn":MAILTO:info@fahrschule-korn.de
END:VEVENT
BEGIN:VEVENT
DTSTART;TZID=Europe/Berlin:20260908T183000
DTEND;TZID=Europe/Berlin:20260908T200000
DTSTAMP:20260425T175648
CREATED:20230404T182551Z
LAST-MODIFIED:20240130T101057Z
UID:10000661-1788892200-1788897600@www.fahrschule-korn.de
SUMMARY:Grundunterricht Mühldorf
DESCRIPTION:
URL:https://www.fahrschule-korn.de/termin/grundunterricht-muehldorf/2026-09-08/
LOCATION:Standort Mühldorf\, Mainstraße 44\, Mühldorf a. Inn\, Bayern\, 84453
CATEGORIES:Grundunterricht
ORGANIZER;CN="Fahrschule Korn":MAILTO:info@fahrschule-korn.de
END:VEVENT
BEGIN:VEVENT
DTSTART;TZID=Europe/Berlin:20260909T180000
DTEND;TZID=Europe/Berlin:20260909T193000
DTSTAMP:20260425T175648
CREATED:20250610T122716Z
LAST-MODIFIED:20250822T091928Z
UID:10002262-1788976800-1788982200@www.fahrschule-korn.de
SUMMARY:LKW
DESCRIPTION:
URL:https://www.fahrschule-korn.de/termin/lkw-2/2026-09-09/
LOCATION:Standort Mühldorf\, Mainstraße 44\, Mühldorf a. Inn\, Bayern\, 84453
CATEGORIES:Klassenspezifischer Unterricht
ORGANIZER;CN="Fahrschule Korn":MAILTO:info@fahrschule-korn.de
END:VEVENT
BEGIN:VEVENT
DTSTART;TZID=Europe/Berlin:20260909T183000
DTEND;TZID=Europe/Berlin:20260909T200000
DTSTAMP:20260425T175648
CREATED:20230404T182725Z
LAST-MODIFIED:20240130T100245Z
UID:10001211-1788978600-1788984000@www.fahrschule-korn.de
SUMMARY:Grundunterricht Buchbach
DESCRIPTION:
URL:https://www.fahrschule-korn.de/termin/grundunterricht-buchbach/2026-09-09/
LOCATION:Standort Buchbach\, Andreas-Strobl-Straße 2\, Buchbach\, Bayern\, 84428
CATEGORIES:Grundunterricht
ORGANIZER;CN="Fahrschule Korn":MAILTO:info@fahrschule-korn.de
END:VEVENT
BEGIN:VEVENT
DTSTART;TZID=Europe/Berlin:20260910T183000
DTEND;TZID=Europe/Berlin:20260910T200000
DTSTAMP:20260425T175648
CREATED:20230404T182551Z
LAST-MODIFIED:20240130T101057Z
UID:10000662-1789065000-1789070400@www.fahrschule-korn.de
SUMMARY:Grundunterricht Mühldorf
DESCRIPTION:
URL:https://www.fahrschule-korn.de/termin/grundunterricht-muehldorf/2026-09-10/
LOCATION:Standort Mühldorf\, Mainstraße 44\, Mühldorf a. Inn\, Bayern\, 84453
CATEGORIES:Grundunterricht
ORGANIZER;CN="Fahrschule Korn":MAILTO:info@fahrschule-korn.de
END:VEVENT
BEGIN:VEVENT
DTSTART;TZID=Europe/Berlin:20260914T180000
DTEND;TZID=Europe/Berlin:20260914T193000
DTSTAMP:20260425T175648
CREATED:20250610T122716Z
LAST-MODIFIED:20250822T091928Z
UID:10002263-1789408800-1789414200@www.fahrschule-korn.de
SUMMARY:LKW
DESCRIPTION:
URL:https://www.fahrschule-korn.de/termin/lkw-2/2026-09-14/
LOCATION:Standort Mühldorf\, Mainstraße 44\, Mühldorf a. Inn\, Bayern\, 84453
CATEGORIES:Klassenspezifischer Unterricht
ORGANIZER;CN="Fahrschule Korn":MAILTO:info@fahrschule-korn.de
END:VEVENT
BEGIN:VEVENT
DTSTART;TZID=Europe/Berlin:20260914T183000
DTEND;TZID=Europe/Berlin:20260914T200000
DTSTAMP:20260425T175648
CREATED:20230404T182725Z
LAST-MODIFIED:20240130T100245Z
UID:10001212-1789410600-1789416000@www.fahrschule-korn.de
SUMMARY:Grundunterricht Buchbach
DESCRIPTION:
URL:https://www.fahrschule-korn.de/termin/grundunterricht-buchbach/2026-09-14/
LOCATION:Standort Buchbach\, Andreas-Strobl-Straße 2\, Buchbach\, Bayern\, 84428
CATEGORIES:Grundunterricht
ORGANIZER;CN="Fahrschule Korn":MAILTO:info@fahrschule-korn.de
END:VEVENT
BEGIN:VEVENT
DTSTART;TZID=Europe/Berlin:20260915T183000
DTEND;TZID=Europe/Berlin:20260915T200000
DTSTAMP:20260425T175648
CREATED:20230404T182551Z
LAST-MODIFIED:20240130T101057Z
UID:10000663-1789497000-1789502400@www.fahrschule-korn.de
SUMMARY:Grundunterricht Mühldorf
DESCRIPTION:
URL:https://www.fahrschule-korn.de/termin/grundunterricht-muehldorf/2026-09-15/
LOCATION:Standort Mühldorf\, Mainstraße 44\, Mühldorf a. Inn\, Bayern\, 84453
CATEGORIES:Grundunterricht
ORGANIZER;CN="Fahrschule Korn":MAILTO:info@fahrschule-korn.de
END:VEVENT
BEGIN:VEVENT
DTSTART;TZID=Europe/Berlin:20260916T180000
DTEND;TZID=Europe/Berlin:20260916T193000
DTSTAMP:20260425T175648
CREATED:20250610T122716Z
LAST-MODIFIED:20250822T091928Z
UID:10002264-1789581600-1789587000@www.fahrschule-korn.de
SUMMARY:LKW
DESCRIPTION:
URL:https://www.fahrschule-korn.de/termin/lkw-2/2026-09-16/
LOCATION:Standort Mühldorf\, Mainstraße 44\, Mühldorf a. Inn\, Bayern\, 84453
CATEGORIES:Klassenspezifischer Unterricht
ORGANIZER;CN="Fahrschule Korn":MAILTO:info@fahrschule-korn.de
END:VEVENT
BEGIN:VEVENT
DTSTART;TZID=Europe/Berlin:20260916T183000
DTEND;TZID=Europe/Berlin:20260916T200000
DTSTAMP:20260425T175648
CREATED:20230404T182725Z
LAST-MODIFIED:20240130T100245Z
UID:10001213-1789583400-1789588800@www.fahrschule-korn.de
SUMMARY:Grundunterricht Buchbach
DESCRIPTION:
URL:https://www.fahrschule-korn.de/termin/grundunterricht-buchbach/2026-09-16/
LOCATION:Standort Buchbach\, Andreas-Strobl-Straße 2\, Buchbach\, Bayern\, 84428
CATEGORIES:Grundunterricht
ORGANIZER;CN="Fahrschule Korn":MAILTO:info@fahrschule-korn.de
END:VEVENT
BEGIN:VEVENT
DTSTART;TZID=Europe/Berlin:20260917T183000
DTEND;TZID=Europe/Berlin:20260917T200000
DTSTAMP:20260425T175648
CREATED:20230404T182551Z
LAST-MODIFIED:20240130T101057Z
UID:10000664-1789669800-1789675200@www.fahrschule-korn.de
SUMMARY:Grundunterricht Mühldorf
DESCRIPTION:
URL:https://www.fahrschule-korn.de/termin/grundunterricht-muehldorf/2026-09-17/
LOCATION:Standort Mühldorf\, Mainstraße 44\, Mühldorf a. Inn\, Bayern\, 84453
CATEGORIES:Grundunterricht
ORGANIZER;CN="Fahrschule Korn":MAILTO:info@fahrschule-korn.de
END:VEVENT
BEGIN:VEVENT
DTSTART;TZID=Europe/Berlin:20260921T180000
DTEND;TZID=Europe/Berlin:20260921T193000
DTSTAMP:20260425T175648
CREATED:20250610T122716Z
LAST-MODIFIED:20250822T091928Z
UID:10002265-1790013600-1790019000@www.fahrschule-korn.de
SUMMARY:LKW
DESCRIPTION:
URL:https://www.fahrschule-korn.de/termin/lkw-2/2026-09-21/
LOCATION:Standort Mühldorf\, Mainstraße 44\, Mühldorf a. Inn\, Bayern\, 84453
CATEGORIES:Klassenspezifischer Unterricht
ORGANIZER;CN="Fahrschule Korn":MAILTO:info@fahrschule-korn.de
END:VEVENT
BEGIN:VEVENT
DTSTART;TZID=Europe/Berlin:20260921T183000
DTEND;TZID=Europe/Berlin:20260921T200000
DTSTAMP:20260425T175648
CREATED:20230404T182725Z
LAST-MODIFIED:20240130T100245Z
UID:10001214-1790015400-1790020800@www.fahrschule-korn.de
SUMMARY:Grundunterricht Buchbach
DESCRIPTION:
URL:https://www.fahrschule-korn.de/termin/grundunterricht-buchbach/2026-09-21/
LOCATION:Standort Buchbach\, Andreas-Strobl-Straße 2\, Buchbach\, Bayern\, 84428
CATEGORIES:Grundunterricht
ORGANIZER;CN="Fahrschule Korn":MAILTO:info@fahrschule-korn.de
END:VEVENT
BEGIN:VEVENT
DTSTART;TZID=Europe/Berlin:20260922T183000
DTEND;TZID=Europe/Berlin:20260922T200000
DTSTAMP:20260425T175648
CREATED:20230404T182551Z
LAST-MODIFIED:20240130T101057Z
UID:10000665-1790101800-1790107200@www.fahrschule-korn.de
SUMMARY:Grundunterricht Mühldorf
DESCRIPTION:
URL:https://www.fahrschule-korn.de/termin/grundunterricht-muehldorf/2026-09-22/
LOCATION:Standort Mühldorf\, Mainstraße 44\, Mühldorf a. Inn\, Bayern\, 84453
CATEGORIES:Grundunterricht
ORGANIZER;CN="Fahrschule Korn":MAILTO:info@fahrschule-korn.de
END:VEVENT
BEGIN:VEVENT
DTSTART;TZID=Europe/Berlin:20260923T180000
DTEND;TZID=Europe/Berlin:20260923T193000
DTSTAMP:20260425T175648
CREATED:20250610T122716Z
LAST-MODIFIED:20250822T091928Z
UID:10002266-1790186400-1790191800@www.fahrschule-korn.de
SUMMARY:LKW
DESCRIPTION:
URL:https://www.fahrschule-korn.de/termin/lkw-2/2026-09-23/
LOCATION:Standort Mühldorf\, Mainstraße 44\, Mühldorf a. Inn\, Bayern\, 84453
CATEGORIES:Klassenspezifischer Unterricht
ORGANIZER;CN="Fahrschule Korn":MAILTO:info@fahrschule-korn.de
END:VEVENT
BEGIN:VEVENT
DTSTART;TZID=Europe/Berlin:20260923T183000
DTEND;TZID=Europe/Berlin:20260923T200000
DTSTAMP:20260425T175648
CREATED:20230404T182725Z
LAST-MODIFIED:20240130T100245Z
UID:10001215-1790188200-1790193600@www.fahrschule-korn.de
SUMMARY:Grundunterricht Buchbach
DESCRIPTION:
URL:https://www.fahrschule-korn.de/termin/grundunterricht-buchbach/2026-09-23/
LOCATION:Standort Buchbach\, Andreas-Strobl-Straße 2\, Buchbach\, Bayern\, 84428
CATEGORIES:Grundunterricht
ORGANIZER;CN="Fahrschule Korn":MAILTO:info@fahrschule-korn.de
END:VEVENT
BEGIN:VEVENT
DTSTART;TZID=Europe/Berlin:20260924T183000
DTEND;TZID=Europe/Berlin:20260924T200000
DTSTAMP:20260425T175648
CREATED:20230404T182551Z
LAST-MODIFIED:20240130T101057Z
UID:10000666-1790274600-1790280000@www.fahrschule-korn.de
SUMMARY:Grundunterricht Mühldorf
DESCRIPTION:
URL:https://www.fahrschule-korn.de/termin/grundunterricht-muehldorf/2026-09-24/
LOCATION:Standort Mühldorf\, Mainstraße 44\, Mühldorf a. Inn\, Bayern\, 84453
CATEGORIES:Grundunterricht
ORGANIZER;CN="Fahrschule Korn":MAILTO:info@fahrschule-korn.de
END:VEVENT
BEGIN:VEVENT
DTSTART;TZID=Europe/Berlin:20260928T180000
DTEND;TZID=Europe/Berlin:20260928T193000
DTSTAMP:20260425T175648
CREATED:20250610T122716Z
LAST-MODIFIED:20250822T091928Z
UID:10002267-1790618400-1790623800@www.fahrschule-korn.de
SUMMARY:LKW
DESCRIPTION:
URL:https://www.fahrschule-korn.de/termin/lkw-2/2026-09-28/
LOCATION:Standort Mühldorf\, Mainstraße 44\, Mühldorf a. Inn\, Bayern\, 84453
CATEGORIES:Klassenspezifischer Unterricht
ORGANIZER;CN="Fahrschule Korn":MAILTO:info@fahrschule-korn.de
END:VEVENT
BEGIN:VEVENT
DTSTART;TZID=Europe/Berlin:20260928T183000
DTEND;TZID=Europe/Berlin:20260928T200000
DTSTAMP:20260425T175648
CREATED:20230404T182725Z
LAST-MODIFIED:20240130T100245Z
UID:10001216-1790620200-1790625600@www.fahrschule-korn.de
SUMMARY:Grundunterricht Buchbach
DESCRIPTION:
URL:https://www.fahrschule-korn.de/termin/grundunterricht-buchbach/2026-09-28/
LOCATION:Standort Buchbach\, Andreas-Strobl-Straße 2\, Buchbach\, Bayern\, 84428
CATEGORIES:Grundunterricht
ORGANIZER;CN="Fahrschule Korn":MAILTO:info@fahrschule-korn.de
END:VEVENT
BEGIN:VEVENT
DTSTART;TZID=Europe/Berlin:20260929T183000
DTEND;TZID=Europe/Berlin:20260929T200000
DTSTAMP:20260425T175648
CREATED:20230404T182551Z
LAST-MODIFIED:20240130T101057Z
UID:10000667-1790706600-1790712000@www.fahrschule-korn.de
SUMMARY:Grundunterricht Mühldorf
DESCRIPTION:
URL:https://www.fahrschule-korn.de/termin/grundunterricht-muehldorf/2026-09-29/
LOCATION:Standort Mühldorf\, Mainstraße 44\, Mühldorf a. Inn\, Bayern\, 84453
CATEGORIES:Grundunterricht
ORGANIZER;CN="Fahrschule Korn":MAILTO:info@fahrschule-korn.de
END:VEVENT
BEGIN:VEVENT
DTSTART;TZID=Europe/Berlin:20260930T180000
DTEND;TZID=Europe/Berlin:20260930T193000
DTSTAMP:20260425T175648
CREATED:20250610T122716Z
LAST-MODIFIED:20250822T091928Z
UID:10002268-1790791200-1790796600@www.fahrschule-korn.de
SUMMARY:LKW
DESCRIPTION:
URL:https://www.fahrschule-korn.de/termin/lkw-2/2026-09-30/
LOCATION:Standort Mühldorf\, Mainstraße 44\, Mühldorf a. Inn\, Bayern\, 84453
CATEGORIES:Klassenspezifischer Unterricht
ORGANIZER;CN="Fahrschule Korn":MAILTO:info@fahrschule-korn.de
END:VEVENT
BEGIN:VEVENT
DTSTART;TZID=Europe/Berlin:20260930T183000
DTEND;TZID=Europe/Berlin:20260930T200000
DTSTAMP:20260425T175648
CREATED:20230404T182725Z
LAST-MODIFIED:20240130T100245Z
UID:10001217-1790793000-1790798400@www.fahrschule-korn.de
SUMMARY:Grundunterricht Buchbach
DESCRIPTION:
URL:https://www.fahrschule-korn.de/termin/grundunterricht-buchbach/2026-09-30/
LOCATION:Standort Buchbach\, Andreas-Strobl-Straße 2\, Buchbach\, Bayern\, 84428
CATEGORIES:Grundunterricht
ORGANIZER;CN="Fahrschule Korn":MAILTO:info@fahrschule-korn.de
END:VEVENT
END:VCALENDAR