BEGIN:VCALENDAR
VERSION:2.0
PRODID:-//Fahrschule Korn - ECPv6.13.2.1//NONSGML v1.0//EN
CALSCALE:GREGORIAN
METHOD:PUBLISH
X-WR-CALNAME:Fahrschule Korn
X-ORIGINAL-URL:https://www.fahrschule-korn.de
X-WR-CALDESC:Veranstaltungen für Fahrschule Korn
REFRESH-INTERVAL;VALUE=DURATION:PT1H
X-Robots-Tag:noindex
X-PUBLISHED-TTL:PT1H
BEGIN:VTIMEZONE
TZID:Europe/Berlin
BEGIN:DAYLIGHT
TZOFFSETFROM:+0100
TZOFFSETTO:+0200
TZNAME:CEST
DTSTART:20250330T010000
END:DAYLIGHT
BEGIN:STANDARD
TZOFFSETFROM:+0200
TZOFFSETTO:+0100
TZNAME:CET
DTSTART:20251026T010000
END:STANDARD
END:VTIMEZONE
BEGIN:VEVENT
DTSTART;TZID=Europe/Berlin:20251001T180000
DTEND;TZID=Europe/Berlin:20251001T193000
DTSTAMP:20260422T004730
CREATED:20250610T122716Z
LAST-MODIFIED:20250822T091928Z
UID:10002164-1759341600-1759347000@www.fahrschule-korn.de
SUMMARY:LKW
DESCRIPTION:
URL:https://www.fahrschule-korn.de/termin/lkw-2/2025-10-01/
LOCATION:Standort Mühldorf\, Mainstraße 44\, Mühldorf a. Inn\, Bayern\, 84453
CATEGORIES:Klassenspezifischer Unterricht
ORGANIZER;CN="Fahrschule Korn":MAILTO:info@fahrschule-korn.de
END:VEVENT
BEGIN:VEVENT
DTSTART;TZID=Europe/Berlin:20251001T183000
DTEND;TZID=Europe/Berlin:20251001T200000
DTSTAMP:20260422T004730
CREATED:20230404T182725Z
LAST-MODIFIED:20240130T100245Z
UID:10001113-1759343400-1759348800@www.fahrschule-korn.de
SUMMARY:Grundunterricht Buchbach
DESCRIPTION:
URL:https://www.fahrschule-korn.de/termin/grundunterricht-buchbach/2025-10-01/
LOCATION:Standort Buchbach\, Andreas-Strobl-Straße 2\, Buchbach\, Bayern\, 84428
CATEGORIES:Grundunterricht
ORGANIZER;CN="Fahrschule Korn":MAILTO:info@fahrschule-korn.de
END:VEVENT
BEGIN:VEVENT
DTSTART;TZID=Europe/Berlin:20251002T183000
DTEND;TZID=Europe/Berlin:20251002T200000
DTSTAMP:20260422T004730
CREATED:20230404T182551Z
LAST-MODIFIED:20240130T101057Z
UID:10000564-1759429800-1759435200@www.fahrschule-korn.de
SUMMARY:Grundunterricht Mühldorf
DESCRIPTION:
URL:https://www.fahrschule-korn.de/termin/grundunterricht-muehldorf/2025-10-02/
LOCATION:Standort Mühldorf\, Mainstraße 44\, Mühldorf a. Inn\, Bayern\, 84453
CATEGORIES:Grundunterricht
ORGANIZER;CN="Fahrschule Korn":MAILTO:info@fahrschule-korn.de
END:VEVENT
BEGIN:VEVENT
DTSTART;TZID=Europe/Berlin:20251006T180000
DTEND;TZID=Europe/Berlin:20251006T193000
DTSTAMP:20260422T004730
CREATED:20250610T122716Z
LAST-MODIFIED:20250822T091928Z
UID:10002165-1759773600-1759779000@www.fahrschule-korn.de
SUMMARY:LKW
DESCRIPTION:
URL:https://www.fahrschule-korn.de/termin/lkw-2/2025-10-06/
LOCATION:Standort Mühldorf\, Mainstraße 44\, Mühldorf a. Inn\, Bayern\, 84453
CATEGORIES:Klassenspezifischer Unterricht
ORGANIZER;CN="Fahrschule Korn":MAILTO:info@fahrschule-korn.de
END:VEVENT
BEGIN:VEVENT
DTSTART;TZID=Europe/Berlin:20251006T183000
DTEND;TZID=Europe/Berlin:20251006T200000
DTSTAMP:20260422T004730
CREATED:20230404T182725Z
LAST-MODIFIED:20240130T100245Z
UID:10001114-1759775400-1759780800@www.fahrschule-korn.de
SUMMARY:Grundunterricht Buchbach
DESCRIPTION:
URL:https://www.fahrschule-korn.de/termin/grundunterricht-buchbach/2025-10-06/
LOCATION:Standort Buchbach\, Andreas-Strobl-Straße 2\, Buchbach\, Bayern\, 84428
CATEGORIES:Grundunterricht
ORGANIZER;CN="Fahrschule Korn":MAILTO:info@fahrschule-korn.de
END:VEVENT
BEGIN:VEVENT
DTSTART;TZID=Europe/Berlin:20251007T183000
DTEND;TZID=Europe/Berlin:20251007T200000
DTSTAMP:20260422T004730
CREATED:20230404T182551Z
LAST-MODIFIED:20240130T101057Z
UID:10000565-1759861800-1759867200@www.fahrschule-korn.de
SUMMARY:Grundunterricht Mühldorf
DESCRIPTION:
URL:https://www.fahrschule-korn.de/termin/grundunterricht-muehldorf/2025-10-07/
LOCATION:Standort Mühldorf\, Mainstraße 44\, Mühldorf a. Inn\, Bayern\, 84453
CATEGORIES:Grundunterricht
ORGANIZER;CN="Fahrschule Korn":MAILTO:info@fahrschule-korn.de
END:VEVENT
BEGIN:VEVENT
DTSTART;TZID=Europe/Berlin:20251008T180000
DTEND;TZID=Europe/Berlin:20251008T193000
DTSTAMP:20260422T004730
CREATED:20250610T122716Z
LAST-MODIFIED:20250822T091928Z
UID:10002166-1759946400-1759951800@www.fahrschule-korn.de
SUMMARY:LKW
DESCRIPTION:
URL:https://www.fahrschule-korn.de/termin/lkw-2/2025-10-08/
LOCATION:Standort Mühldorf\, Mainstraße 44\, Mühldorf a. Inn\, Bayern\, 84453
CATEGORIES:Klassenspezifischer Unterricht
ORGANIZER;CN="Fahrschule Korn":MAILTO:info@fahrschule-korn.de
END:VEVENT
BEGIN:VEVENT
DTSTART;TZID=Europe/Berlin:20251008T183000
DTEND;TZID=Europe/Berlin:20251008T200000
DTSTAMP:20260422T004730
CREATED:20230404T182725Z
LAST-MODIFIED:20240130T100245Z
UID:10001115-1759948200-1759953600@www.fahrschule-korn.de
SUMMARY:Grundunterricht Buchbach
DESCRIPTION:
URL:https://www.fahrschule-korn.de/termin/grundunterricht-buchbach/2025-10-08/
LOCATION:Standort Buchbach\, Andreas-Strobl-Straße 2\, Buchbach\, Bayern\, 84428
CATEGORIES:Grundunterricht
ORGANIZER;CN="Fahrschule Korn":MAILTO:info@fahrschule-korn.de
END:VEVENT
BEGIN:VEVENT
DTSTART;TZID=Europe/Berlin:20251009T183000
DTEND;TZID=Europe/Berlin:20251009T200000
DTSTAMP:20260422T004730
CREATED:20230404T182551Z
LAST-MODIFIED:20240130T101057Z
UID:10000566-1760034600-1760040000@www.fahrschule-korn.de
SUMMARY:Grundunterricht Mühldorf
DESCRIPTION:
URL:https://www.fahrschule-korn.de/termin/grundunterricht-muehldorf/2025-10-09/
LOCATION:Standort Mühldorf\, Mainstraße 44\, Mühldorf a. Inn\, Bayern\, 84453
CATEGORIES:Grundunterricht
ORGANIZER;CN="Fahrschule Korn":MAILTO:info@fahrschule-korn.de
END:VEVENT
BEGIN:VEVENT
DTSTART;TZID=Europe/Berlin:20251011T080000
DTEND;TZID=Europe/Berlin:20251011T160000
DTSTAMP:20260422T004730
CREATED:20250610T114244Z
LAST-MODIFIED:20250610T115535Z
UID:10001564-1760169600-1760198400@www.fahrschule-korn.de
SUMMARY:Berufskraftfahrer Weiterbildung
DESCRIPTION:Sozialvorschriften
URL:https://www.fahrschule-korn.de/termin/berufskraftfahrer-weiterbildung-2/2025-10-11/
LOCATION:Standort Mühldorf\, Mainstraße 44\, Mühldorf a. Inn\, Bayern\, 84453
CATEGORIES:Berufskraftfahrer Weiterbildung
ORGANIZER;CN="Fahrschule Korn":MAILTO:info@fahrschule-korn.de
END:VEVENT
BEGIN:VEVENT
DTSTART;TZID=Europe/Berlin:20251013T180000
DTEND;TZID=Europe/Berlin:20251013T193000
DTSTAMP:20260422T004730
CREATED:20250610T122716Z
LAST-MODIFIED:20250822T091928Z
UID:10002167-1760378400-1760383800@www.fahrschule-korn.de
SUMMARY:LKW
DESCRIPTION:
URL:https://www.fahrschule-korn.de/termin/lkw-2/2025-10-13/
LOCATION:Standort Mühldorf\, Mainstraße 44\, Mühldorf a. Inn\, Bayern\, 84453
CATEGORIES:Klassenspezifischer Unterricht
ORGANIZER;CN="Fahrschule Korn":MAILTO:info@fahrschule-korn.de
END:VEVENT
BEGIN:VEVENT
DTSTART;TZID=Europe/Berlin:20251013T183000
DTEND;TZID=Europe/Berlin:20251013T200000
DTSTAMP:20260422T004730
CREATED:20230404T182725Z
LAST-MODIFIED:20240130T100245Z
UID:10001116-1760380200-1760385600@www.fahrschule-korn.de
SUMMARY:Grundunterricht Buchbach
DESCRIPTION:
URL:https://www.fahrschule-korn.de/termin/grundunterricht-buchbach/2025-10-13/
LOCATION:Standort Buchbach\, Andreas-Strobl-Straße 2\, Buchbach\, Bayern\, 84428
CATEGORIES:Grundunterricht
ORGANIZER;CN="Fahrschule Korn":MAILTO:info@fahrschule-korn.de
END:VEVENT
BEGIN:VEVENT
DTSTART;TZID=Europe/Berlin:20251014T183000
DTEND;TZID=Europe/Berlin:20251014T200000
DTSTAMP:20260422T004730
CREATED:20230404T182551Z
LAST-MODIFIED:20240130T101057Z
UID:10000567-1760466600-1760472000@www.fahrschule-korn.de
SUMMARY:Grundunterricht Mühldorf
DESCRIPTION:
URL:https://www.fahrschule-korn.de/termin/grundunterricht-muehldorf/2025-10-14/
LOCATION:Standort Mühldorf\, Mainstraße 44\, Mühldorf a. Inn\, Bayern\, 84453
CATEGORIES:Grundunterricht
ORGANIZER;CN="Fahrschule Korn":MAILTO:info@fahrschule-korn.de
END:VEVENT
BEGIN:VEVENT
DTSTART;TZID=Europe/Berlin:20251015T180000
DTEND;TZID=Europe/Berlin:20251015T193000
DTSTAMP:20260422T004730
CREATED:20250610T122716Z
LAST-MODIFIED:20250822T091928Z
UID:10002168-1760551200-1760556600@www.fahrschule-korn.de
SUMMARY:LKW
DESCRIPTION:
URL:https://www.fahrschule-korn.de/termin/lkw-2/2025-10-15/
LOCATION:Standort Mühldorf\, Mainstraße 44\, Mühldorf a. Inn\, Bayern\, 84453
CATEGORIES:Klassenspezifischer Unterricht
ORGANIZER;CN="Fahrschule Korn":MAILTO:info@fahrschule-korn.de
END:VEVENT
BEGIN:VEVENT
DTSTART;TZID=Europe/Berlin:20251015T183000
DTEND;TZID=Europe/Berlin:20251015T200000
DTSTAMP:20260422T004730
CREATED:20230404T182725Z
LAST-MODIFIED:20240130T100245Z
UID:10001117-1760553000-1760558400@www.fahrschule-korn.de
SUMMARY:Grundunterricht Buchbach
DESCRIPTION:
URL:https://www.fahrschule-korn.de/termin/grundunterricht-buchbach/2025-10-15/
LOCATION:Standort Buchbach\, Andreas-Strobl-Straße 2\, Buchbach\, Bayern\, 84428
CATEGORIES:Grundunterricht
ORGANIZER;CN="Fahrschule Korn":MAILTO:info@fahrschule-korn.de
END:VEVENT
BEGIN:VEVENT
DTSTART;TZID=Europe/Berlin:20251016T183000
DTEND;TZID=Europe/Berlin:20251016T200000
DTSTAMP:20260422T004730
CREATED:20230404T182551Z
LAST-MODIFIED:20240130T101057Z
UID:10000568-1760639400-1760644800@www.fahrschule-korn.de
SUMMARY:Grundunterricht Mühldorf
DESCRIPTION:
URL:https://www.fahrschule-korn.de/termin/grundunterricht-muehldorf/2025-10-16/
LOCATION:Standort Mühldorf\, Mainstraße 44\, Mühldorf a. Inn\, Bayern\, 84453
CATEGORIES:Grundunterricht
ORGANIZER;CN="Fahrschule Korn":MAILTO:info@fahrschule-korn.de
END:VEVENT
BEGIN:VEVENT
DTSTART;TZID=Europe/Berlin:20251018T080000
DTEND;TZID=Europe/Berlin:20251018T160000
DTSTAMP:20260422T004730
CREATED:20250610T115046Z
LAST-MODIFIED:20250610T115727Z
UID:10001565-1760774400-1760803200@www.fahrschule-korn.de
SUMMARY:Berufskraftfahrer Weiterbildung
DESCRIPTION:Ladungssicherung / Personenbeföderung
URL:https://www.fahrschule-korn.de/termin/berufskraftfahrer-weiterbildung-3/2025-10-18/
LOCATION:Standort Mühldorf\, Mainstraße 44\, Mühldorf a. Inn\, Bayern\, 84453
CATEGORIES:Berufskraftfahrer Weiterbildung
ORGANIZER;CN="Fahrschule Korn":MAILTO:info@fahrschule-korn.de
END:VEVENT
BEGIN:VEVENT
DTSTART;TZID=Europe/Berlin:20251020T180000
DTEND;TZID=Europe/Berlin:20251020T193000
DTSTAMP:20260422T004730
CREATED:20250610T122716Z
LAST-MODIFIED:20250822T091928Z
UID:10002169-1760983200-1760988600@www.fahrschule-korn.de
SUMMARY:LKW
DESCRIPTION:
URL:https://www.fahrschule-korn.de/termin/lkw-2/2025-10-20/
LOCATION:Standort Mühldorf\, Mainstraße 44\, Mühldorf a. Inn\, Bayern\, 84453
CATEGORIES:Klassenspezifischer Unterricht
ORGANIZER;CN="Fahrschule Korn":MAILTO:info@fahrschule-korn.de
END:VEVENT
BEGIN:VEVENT
DTSTART;TZID=Europe/Berlin:20251020T183000
DTEND;TZID=Europe/Berlin:20251020T200000
DTSTAMP:20260422T004730
CREATED:20230404T182725Z
LAST-MODIFIED:20240130T100245Z
UID:10001118-1760985000-1760990400@www.fahrschule-korn.de
SUMMARY:Grundunterricht Buchbach
DESCRIPTION:
URL:https://www.fahrschule-korn.de/termin/grundunterricht-buchbach/2025-10-20/
LOCATION:Standort Buchbach\, Andreas-Strobl-Straße 2\, Buchbach\, Bayern\, 84428
CATEGORIES:Grundunterricht
ORGANIZER;CN="Fahrschule Korn":MAILTO:info@fahrschule-korn.de
END:VEVENT
BEGIN:VEVENT
DTSTART;TZID=Europe/Berlin:20251021T183000
DTEND;TZID=Europe/Berlin:20251021T200000
DTSTAMP:20260422T004730
CREATED:20230404T182551Z
LAST-MODIFIED:20240130T101057Z
UID:10000569-1761071400-1761076800@www.fahrschule-korn.de
SUMMARY:Grundunterricht Mühldorf
DESCRIPTION:
URL:https://www.fahrschule-korn.de/termin/grundunterricht-muehldorf/2025-10-21/
LOCATION:Standort Mühldorf\, Mainstraße 44\, Mühldorf a. Inn\, Bayern\, 84453
CATEGORIES:Grundunterricht
ORGANIZER;CN="Fahrschule Korn":MAILTO:info@fahrschule-korn.de
END:VEVENT
BEGIN:VEVENT
DTSTART;TZID=Europe/Berlin:20251022T180000
DTEND;TZID=Europe/Berlin:20251022T193000
DTSTAMP:20260422T004730
CREATED:20250610T122716Z
LAST-MODIFIED:20250822T091928Z
UID:10002170-1761156000-1761161400@www.fahrschule-korn.de
SUMMARY:LKW
DESCRIPTION:
URL:https://www.fahrschule-korn.de/termin/lkw-2/2025-10-22/
LOCATION:Standort Mühldorf\, Mainstraße 44\, Mühldorf a. Inn\, Bayern\, 84453
CATEGORIES:Klassenspezifischer Unterricht
ORGANIZER;CN="Fahrschule Korn":MAILTO:info@fahrschule-korn.de
END:VEVENT
BEGIN:VEVENT
DTSTART;TZID=Europe/Berlin:20251022T183000
DTEND;TZID=Europe/Berlin:20251022T200000
DTSTAMP:20260422T004730
CREATED:20230404T182725Z
LAST-MODIFIED:20240130T100245Z
UID:10001119-1761157800-1761163200@www.fahrschule-korn.de
SUMMARY:Grundunterricht Buchbach
DESCRIPTION:
URL:https://www.fahrschule-korn.de/termin/grundunterricht-buchbach/2025-10-22/
LOCATION:Standort Buchbach\, Andreas-Strobl-Straße 2\, Buchbach\, Bayern\, 84428
CATEGORIES:Grundunterricht
ORGANIZER;CN="Fahrschule Korn":MAILTO:info@fahrschule-korn.de
END:VEVENT
BEGIN:VEVENT
DTSTART;TZID=Europe/Berlin:20251023T183000
DTEND;TZID=Europe/Berlin:20251023T200000
DTSTAMP:20260422T004730
CREATED:20230404T182551Z
LAST-MODIFIED:20240130T101057Z
UID:10000570-1761244200-1761249600@www.fahrschule-korn.de
SUMMARY:Grundunterricht Mühldorf
DESCRIPTION:
URL:https://www.fahrschule-korn.de/termin/grundunterricht-muehldorf/2025-10-23/
LOCATION:Standort Mühldorf\, Mainstraße 44\, Mühldorf a. Inn\, Bayern\, 84453
CATEGORIES:Grundunterricht
ORGANIZER;CN="Fahrschule Korn":MAILTO:info@fahrschule-korn.de
END:VEVENT
BEGIN:VEVENT
DTSTART;TZID=Europe/Berlin:20251025T080000
DTEND;TZID=Europe/Berlin:20251025T160000
DTSTAMP:20260422T004730
CREATED:20250610T115127Z
LAST-MODIFIED:20250610T115758Z
UID:10001566-1761379200-1761408000@www.fahrschule-korn.de
SUMMARY:Berufskraftfahrer Weiterbildung
DESCRIPTION:Rechtsvorschriften
URL:https://www.fahrschule-korn.de/termin/berufskraftfahrer-weiterbildung-4/2025-10-25/
LOCATION:Standort Mühldorf\, Mainstraße 44\, Mühldorf a. Inn\, Bayern\, 84453
CATEGORIES:Berufskraftfahrer Weiterbildung
ORGANIZER;CN="Fahrschule Korn":MAILTO:info@fahrschule-korn.de
END:VEVENT
BEGIN:VEVENT
DTSTART;TZID=Europe/Berlin:20251027T180000
DTEND;TZID=Europe/Berlin:20251027T193000
DTSTAMP:20260422T004730
CREATED:20250610T122716Z
LAST-MODIFIED:20250822T091928Z
UID:10002171-1761588000-1761593400@www.fahrschule-korn.de
SUMMARY:LKW
DESCRIPTION:
URL:https://www.fahrschule-korn.de/termin/lkw-2/2025-10-27/
LOCATION:Standort Mühldorf\, Mainstraße 44\, Mühldorf a. Inn\, Bayern\, 84453
CATEGORIES:Klassenspezifischer Unterricht
ORGANIZER;CN="Fahrschule Korn":MAILTO:info@fahrschule-korn.de
END:VEVENT
BEGIN:VEVENT
DTSTART;TZID=Europe/Berlin:20251027T183000
DTEND;TZID=Europe/Berlin:20251027T200000
DTSTAMP:20260422T004730
CREATED:20230404T182725Z
LAST-MODIFIED:20240130T100245Z
UID:10001120-1761589800-1761595200@www.fahrschule-korn.de
SUMMARY:Grundunterricht Buchbach
DESCRIPTION:
URL:https://www.fahrschule-korn.de/termin/grundunterricht-buchbach/2025-10-27/
LOCATION:Standort Buchbach\, Andreas-Strobl-Straße 2\, Buchbach\, Bayern\, 84428
CATEGORIES:Grundunterricht
ORGANIZER;CN="Fahrschule Korn":MAILTO:info@fahrschule-korn.de
END:VEVENT
BEGIN:VEVENT
DTSTART;TZID=Europe/Berlin:20251028T183000
DTEND;TZID=Europe/Berlin:20251028T200000
DTSTAMP:20260422T004730
CREATED:20230404T182551Z
LAST-MODIFIED:20240130T101057Z
UID:10000571-1761676200-1761681600@www.fahrschule-korn.de
SUMMARY:Grundunterricht Mühldorf
DESCRIPTION:
URL:https://www.fahrschule-korn.de/termin/grundunterricht-muehldorf/2025-10-28/
LOCATION:Standort Mühldorf\, Mainstraße 44\, Mühldorf a. Inn\, Bayern\, 84453
CATEGORIES:Grundunterricht
ORGANIZER;CN="Fahrschule Korn":MAILTO:info@fahrschule-korn.de
END:VEVENT
BEGIN:VEVENT
DTSTART;TZID=Europe/Berlin:20251029T180000
DTEND;TZID=Europe/Berlin:20251029T193000
DTSTAMP:20260422T004730
CREATED:20250610T122716Z
LAST-MODIFIED:20250822T091928Z
UID:10002172-1761760800-1761766200@www.fahrschule-korn.de
SUMMARY:LKW
DESCRIPTION:
URL:https://www.fahrschule-korn.de/termin/lkw-2/2025-10-29/
LOCATION:Standort Mühldorf\, Mainstraße 44\, Mühldorf a. Inn\, Bayern\, 84453
CATEGORIES:Klassenspezifischer Unterricht
ORGANIZER;CN="Fahrschule Korn":MAILTO:info@fahrschule-korn.de
END:VEVENT
BEGIN:VEVENT
DTSTART;TZID=Europe/Berlin:20251029T183000
DTEND;TZID=Europe/Berlin:20251029T200000
DTSTAMP:20260422T004730
CREATED:20230404T182725Z
LAST-MODIFIED:20240130T100245Z
UID:10001121-1761762600-1761768000@www.fahrschule-korn.de
SUMMARY:Grundunterricht Buchbach
DESCRIPTION:
URL:https://www.fahrschule-korn.de/termin/grundunterricht-buchbach/2025-10-29/
LOCATION:Standort Buchbach\, Andreas-Strobl-Straße 2\, Buchbach\, Bayern\, 84428
CATEGORIES:Grundunterricht
ORGANIZER;CN="Fahrschule Korn":MAILTO:info@fahrschule-korn.de
END:VEVENT
BEGIN:VEVENT
DTSTART;TZID=Europe/Berlin:20251030T183000
DTEND;TZID=Europe/Berlin:20251030T200000
DTSTAMP:20260422T004730
CREATED:20230404T182551Z
LAST-MODIFIED:20240130T101057Z
UID:10000572-1761849000-1761854400@www.fahrschule-korn.de
SUMMARY:Grundunterricht Mühldorf
DESCRIPTION:
URL:https://www.fahrschule-korn.de/termin/grundunterricht-muehldorf/2025-10-30/
LOCATION:Standort Mühldorf\, Mainstraße 44\, Mühldorf a. Inn\, Bayern\, 84453
CATEGORIES:Grundunterricht
ORGANIZER;CN="Fahrschule Korn":MAILTO:info@fahrschule-korn.de
END:VEVENT
END:VCALENDAR