BEGIN:VCALENDAR
VERSION:2.0
PRODID:-//Fahrschule Korn - ECPv6.13.2.1//NONSGML v1.0//EN
CALSCALE:GREGORIAN
METHOD:PUBLISH
X-WR-CALNAME:Fahrschule Korn
X-ORIGINAL-URL:https://www.fahrschule-korn.de
X-WR-CALDESC:Veranstaltungen für Fahrschule Korn
REFRESH-INTERVAL;VALUE=DURATION:PT1H
X-Robots-Tag:noindex
X-PUBLISHED-TTL:PT1H
BEGIN:VTIMEZONE
TZID:Europe/Berlin
BEGIN:DAYLIGHT
TZOFFSETFROM:+0100
TZOFFSETTO:+0200
TZNAME:CEST
DTSTART:20250330T010000
END:DAYLIGHT
BEGIN:STANDARD
TZOFFSETFROM:+0200
TZOFFSETTO:+0100
TZNAME:CET
DTSTART:20251026T010000
END:STANDARD
END:VTIMEZONE
BEGIN:VEVENT
DTSTART;TZID=Europe/Berlin:20250901T183000
DTEND;TZID=Europe/Berlin:20250901T200000
DTSTAMP:20260422T024744
CREATED:20230404T182725Z
LAST-MODIFIED:20240130T100245Z
UID:10001104-1756751400-1756756800@www.fahrschule-korn.de
SUMMARY:Grundunterricht Buchbach
DESCRIPTION:
URL:https://www.fahrschule-korn.de/termin/grundunterricht-buchbach/2025-09-01/
LOCATION:Standort Buchbach\, Andreas-Strobl-Straße 2\, Buchbach\, Bayern\, 84428
CATEGORIES:Grundunterricht
ORGANIZER;CN="Fahrschule Korn":MAILTO:info@fahrschule-korn.de
END:VEVENT
BEGIN:VEVENT
DTSTART;TZID=Europe/Berlin:20250902T183000
DTEND;TZID=Europe/Berlin:20250902T200000
DTSTAMP:20260422T024744
CREATED:20230404T182551Z
LAST-MODIFIED:20240130T101057Z
UID:10000555-1756837800-1756843200@www.fahrschule-korn.de
SUMMARY:Grundunterricht Mühldorf
DESCRIPTION:
URL:https://www.fahrschule-korn.de/termin/grundunterricht-muehldorf/2025-09-02/
LOCATION:Standort Mühldorf\, Mainstraße 44\, Mühldorf a. Inn\, Bayern\, 84453
CATEGORIES:Grundunterricht
ORGANIZER;CN="Fahrschule Korn":MAILTO:info@fahrschule-korn.de
END:VEVENT
BEGIN:VEVENT
DTSTART;TZID=Europe/Berlin:20250903T183000
DTEND;TZID=Europe/Berlin:20250903T200000
DTSTAMP:20260422T024744
CREATED:20230404T182725Z
LAST-MODIFIED:20240130T100245Z
UID:10001105-1756924200-1756929600@www.fahrschule-korn.de
SUMMARY:Grundunterricht Buchbach
DESCRIPTION:
URL:https://www.fahrschule-korn.de/termin/grundunterricht-buchbach/2025-09-03/
LOCATION:Standort Buchbach\, Andreas-Strobl-Straße 2\, Buchbach\, Bayern\, 84428
CATEGORIES:Grundunterricht
ORGANIZER;CN="Fahrschule Korn":MAILTO:info@fahrschule-korn.de
END:VEVENT
BEGIN:VEVENT
DTSTART;TZID=Europe/Berlin:20250904T183000
DTEND;TZID=Europe/Berlin:20250904T200000
DTSTAMP:20260422T024744
CREATED:20230404T182551Z
LAST-MODIFIED:20240130T101057Z
UID:10000556-1757010600-1757016000@www.fahrschule-korn.de
SUMMARY:Grundunterricht Mühldorf
DESCRIPTION:
URL:https://www.fahrschule-korn.de/termin/grundunterricht-muehldorf/2025-09-04/
LOCATION:Standort Mühldorf\, Mainstraße 44\, Mühldorf a. Inn\, Bayern\, 84453
CATEGORIES:Grundunterricht
ORGANIZER;CN="Fahrschule Korn":MAILTO:info@fahrschule-korn.de
END:VEVENT
BEGIN:VEVENT
DTSTART;TZID=Europe/Berlin:20250908T180000
DTEND;TZID=Europe/Berlin:20250908T193000
DTSTAMP:20260422T024744
CREATED:20250610T122716Z
LAST-MODIFIED:20250822T091928Z
UID:10002157-1757354400-1757359800@www.fahrschule-korn.de
SUMMARY:LKW
DESCRIPTION:
URL:https://www.fahrschule-korn.de/termin/lkw-2/2025-09-08/
LOCATION:Standort Mühldorf\, Mainstraße 44\, Mühldorf a. Inn\, Bayern\, 84453
CATEGORIES:Klassenspezifischer Unterricht
ORGANIZER;CN="Fahrschule Korn":MAILTO:info@fahrschule-korn.de
END:VEVENT
BEGIN:VEVENT
DTSTART;TZID=Europe/Berlin:20250908T183000
DTEND;TZID=Europe/Berlin:20250908T200000
DTSTAMP:20260422T024744
CREATED:20230404T182725Z
LAST-MODIFIED:20240130T100245Z
UID:10001106-1757356200-1757361600@www.fahrschule-korn.de
SUMMARY:Grundunterricht Buchbach
DESCRIPTION:
URL:https://www.fahrschule-korn.de/termin/grundunterricht-buchbach/2025-09-08/
LOCATION:Standort Buchbach\, Andreas-Strobl-Straße 2\, Buchbach\, Bayern\, 84428
CATEGORIES:Grundunterricht
ORGANIZER;CN="Fahrschule Korn":MAILTO:info@fahrschule-korn.de
END:VEVENT
BEGIN:VEVENT
DTSTART;TZID=Europe/Berlin:20250909T183000
DTEND;TZID=Europe/Berlin:20250909T200000
DTSTAMP:20260422T024744
CREATED:20230404T182551Z
LAST-MODIFIED:20240130T101057Z
UID:10000557-1757442600-1757448000@www.fahrschule-korn.de
SUMMARY:Grundunterricht Mühldorf
DESCRIPTION:
URL:https://www.fahrschule-korn.de/termin/grundunterricht-muehldorf/2025-09-09/
LOCATION:Standort Mühldorf\, Mainstraße 44\, Mühldorf a. Inn\, Bayern\, 84453
CATEGORIES:Grundunterricht
ORGANIZER;CN="Fahrschule Korn":MAILTO:info@fahrschule-korn.de
END:VEVENT
BEGIN:VEVENT
DTSTART;TZID=Europe/Berlin:20250910T180000
DTEND;TZID=Europe/Berlin:20250910T193000
DTSTAMP:20260422T024744
CREATED:20250610T122716Z
LAST-MODIFIED:20250822T091928Z
UID:10002158-1757527200-1757532600@www.fahrschule-korn.de
SUMMARY:LKW
DESCRIPTION:
URL:https://www.fahrschule-korn.de/termin/lkw-2/2025-09-10/
LOCATION:Standort Mühldorf\, Mainstraße 44\, Mühldorf a. Inn\, Bayern\, 84453
CATEGORIES:Klassenspezifischer Unterricht
ORGANIZER;CN="Fahrschule Korn":MAILTO:info@fahrschule-korn.de
END:VEVENT
BEGIN:VEVENT
DTSTART;TZID=Europe/Berlin:20250910T183000
DTEND;TZID=Europe/Berlin:20250910T200000
DTSTAMP:20260422T024744
CREATED:20230404T182725Z
LAST-MODIFIED:20240130T100245Z
UID:10001107-1757529000-1757534400@www.fahrschule-korn.de
SUMMARY:Grundunterricht Buchbach
DESCRIPTION:
URL:https://www.fahrschule-korn.de/termin/grundunterricht-buchbach/2025-09-10/
LOCATION:Standort Buchbach\, Andreas-Strobl-Straße 2\, Buchbach\, Bayern\, 84428
CATEGORIES:Grundunterricht
ORGANIZER;CN="Fahrschule Korn":MAILTO:info@fahrschule-korn.de
END:VEVENT
BEGIN:VEVENT
DTSTART;TZID=Europe/Berlin:20250911T183000
DTEND;TZID=Europe/Berlin:20250911T200000
DTSTAMP:20260422T024744
CREATED:20230404T182551Z
LAST-MODIFIED:20240130T101057Z
UID:10000558-1757615400-1757620800@www.fahrschule-korn.de
SUMMARY:Grundunterricht Mühldorf
DESCRIPTION:
URL:https://www.fahrschule-korn.de/termin/grundunterricht-muehldorf/2025-09-11/
LOCATION:Standort Mühldorf\, Mainstraße 44\, Mühldorf a. Inn\, Bayern\, 84453
CATEGORIES:Grundunterricht
ORGANIZER;CN="Fahrschule Korn":MAILTO:info@fahrschule-korn.de
END:VEVENT
BEGIN:VEVENT
DTSTART;TZID=Europe/Berlin:20250915T080000
DTEND;TZID=Europe/Berlin:20250919T160000
DTSTAMP:20260422T024744
CREATED:20250610T121621Z
LAST-MODIFIED:20250610T122151Z
UID:10001875-1757923200-1758297600@www.fahrschule-korn.de
SUMMARY:Beschleunigte Grundqualifikation
DESCRIPTION:
URL:https://www.fahrschule-korn.de/termin/beschleunigte-grundqualifikation/2025-09-15/
LOCATION:Bayern
CATEGORIES:Beschleunigte Grundqualifikation
ORGANIZER;CN="Fahrschule Korn":MAILTO:info@fahrschule-korn.de
END:VEVENT
BEGIN:VEVENT
DTSTART;TZID=Europe/Berlin:20250915T080000
DTEND;TZID=Europe/Berlin:20250919T160000
DTSTAMP:20260422T024744
CREATED:20250610T122218Z
LAST-MODIFIED:20250610T122218Z
UID:10002130-1757923200-1758297600@www.fahrschule-korn.de
SUMMARY:Beschleunigte Grundqualifikation
DESCRIPTION:
URL:https://www.fahrschule-korn.de/termin/beschleunigte-grundqualifikation-2/
LOCATION:Bayern
CATEGORIES:Beschleunigte Grundqualifikation
ORGANIZER;CN="Fahrschule Korn":MAILTO:info@fahrschule-korn.de
END:VEVENT
BEGIN:VEVENT
DTSTART;TZID=Europe/Berlin:20250915T180000
DTEND;TZID=Europe/Berlin:20250915T193000
DTSTAMP:20260422T024744
CREATED:20250610T122716Z
LAST-MODIFIED:20250822T091928Z
UID:10002159-1757959200-1757964600@www.fahrschule-korn.de
SUMMARY:LKW
DESCRIPTION:
URL:https://www.fahrschule-korn.de/termin/lkw-2/2025-09-15/
LOCATION:Standort Mühldorf\, Mainstraße 44\, Mühldorf a. Inn\, Bayern\, 84453
CATEGORIES:Klassenspezifischer Unterricht
ORGANIZER;CN="Fahrschule Korn":MAILTO:info@fahrschule-korn.de
END:VEVENT
BEGIN:VEVENT
DTSTART;TZID=Europe/Berlin:20250915T183000
DTEND;TZID=Europe/Berlin:20250915T200000
DTSTAMP:20260422T024744
CREATED:20230404T182725Z
LAST-MODIFIED:20240130T100245Z
UID:10001108-1757961000-1757966400@www.fahrschule-korn.de
SUMMARY:Grundunterricht Buchbach
DESCRIPTION:
URL:https://www.fahrschule-korn.de/termin/grundunterricht-buchbach/2025-09-15/
LOCATION:Standort Buchbach\, Andreas-Strobl-Straße 2\, Buchbach\, Bayern\, 84428
CATEGORIES:Grundunterricht
ORGANIZER;CN="Fahrschule Korn":MAILTO:info@fahrschule-korn.de
END:VEVENT
BEGIN:VEVENT
DTSTART;TZID=Europe/Berlin:20250916T080000
DTEND;TZID=Europe/Berlin:20250920T160000
DTSTAMP:20260422T024744
CREATED:20250610T121621Z
LAST-MODIFIED:20250610T122151Z
UID:10002126-1758009600-1758384000@www.fahrschule-korn.de
SUMMARY:Beschleunigte Grundqualifikation
DESCRIPTION:
URL:https://www.fahrschule-korn.de/termin/beschleunigte-grundqualifikation/2025-09-16/
LOCATION:Bayern
CATEGORIES:Beschleunigte Grundqualifikation
ORGANIZER;CN="Fahrschule Korn":MAILTO:info@fahrschule-korn.de
END:VEVENT
BEGIN:VEVENT
DTSTART;TZID=Europe/Berlin:20250916T183000
DTEND;TZID=Europe/Berlin:20250916T200000
DTSTAMP:20260422T024744
CREATED:20230404T182551Z
LAST-MODIFIED:20240130T101057Z
UID:10000559-1758047400-1758052800@www.fahrschule-korn.de
SUMMARY:Grundunterricht Mühldorf
DESCRIPTION:
URL:https://www.fahrschule-korn.de/termin/grundunterricht-muehldorf/2025-09-16/
LOCATION:Standort Mühldorf\, Mainstraße 44\, Mühldorf a. Inn\, Bayern\, 84453
CATEGORIES:Grundunterricht
ORGANIZER;CN="Fahrschule Korn":MAILTO:info@fahrschule-korn.de
END:VEVENT
BEGIN:VEVENT
DTSTART;TZID=Europe/Berlin:20250917T080000
DTEND;TZID=Europe/Berlin:20250921T160000
DTSTAMP:20260422T024744
CREATED:20250610T121621Z
LAST-MODIFIED:20250610T122151Z
UID:10002127-1758096000-1758470400@www.fahrschule-korn.de
SUMMARY:Beschleunigte Grundqualifikation
DESCRIPTION:
URL:https://www.fahrschule-korn.de/termin/beschleunigte-grundqualifikation/2025-09-17/
LOCATION:Bayern
CATEGORIES:Beschleunigte Grundqualifikation
ORGANIZER;CN="Fahrschule Korn":MAILTO:info@fahrschule-korn.de
END:VEVENT
BEGIN:VEVENT
DTSTART;TZID=Europe/Berlin:20250917T180000
DTEND;TZID=Europe/Berlin:20250917T193000
DTSTAMP:20260422T024744
CREATED:20250610T122716Z
LAST-MODIFIED:20250822T091928Z
UID:10002160-1758132000-1758137400@www.fahrschule-korn.de
SUMMARY:LKW
DESCRIPTION:
URL:https://www.fahrschule-korn.de/termin/lkw-2/2025-09-17/
LOCATION:Standort Mühldorf\, Mainstraße 44\, Mühldorf a. Inn\, Bayern\, 84453
CATEGORIES:Klassenspezifischer Unterricht
ORGANIZER;CN="Fahrschule Korn":MAILTO:info@fahrschule-korn.de
END:VEVENT
BEGIN:VEVENT
DTSTART;TZID=Europe/Berlin:20250917T183000
DTEND;TZID=Europe/Berlin:20250917T200000
DTSTAMP:20260422T024744
CREATED:20230404T182725Z
LAST-MODIFIED:20240130T100245Z
UID:10001109-1758133800-1758139200@www.fahrschule-korn.de
SUMMARY:Grundunterricht Buchbach
DESCRIPTION:
URL:https://www.fahrschule-korn.de/termin/grundunterricht-buchbach/2025-09-17/
LOCATION:Standort Buchbach\, Andreas-Strobl-Straße 2\, Buchbach\, Bayern\, 84428
CATEGORIES:Grundunterricht
ORGANIZER;CN="Fahrschule Korn":MAILTO:info@fahrschule-korn.de
END:VEVENT
BEGIN:VEVENT
DTSTART;TZID=Europe/Berlin:20250918T080000
DTEND;TZID=Europe/Berlin:20250922T160000
DTSTAMP:20260422T024744
CREATED:20250610T121621Z
LAST-MODIFIED:20250610T122151Z
UID:10002128-1758182400-1758556800@www.fahrschule-korn.de
SUMMARY:Beschleunigte Grundqualifikation
DESCRIPTION:
URL:https://www.fahrschule-korn.de/termin/beschleunigte-grundqualifikation/2025-09-18/
LOCATION:Bayern
CATEGORIES:Beschleunigte Grundqualifikation
ORGANIZER;CN="Fahrschule Korn":MAILTO:info@fahrschule-korn.de
END:VEVENT
BEGIN:VEVENT
DTSTART;TZID=Europe/Berlin:20250918T183000
DTEND;TZID=Europe/Berlin:20250918T200000
DTSTAMP:20260422T024744
CREATED:20230404T182551Z
LAST-MODIFIED:20240130T101057Z
UID:10000560-1758220200-1758225600@www.fahrschule-korn.de
SUMMARY:Grundunterricht Mühldorf
DESCRIPTION:
URL:https://www.fahrschule-korn.de/termin/grundunterricht-muehldorf/2025-09-18/
LOCATION:Standort Mühldorf\, Mainstraße 44\, Mühldorf a. Inn\, Bayern\, 84453
CATEGORIES:Grundunterricht
ORGANIZER;CN="Fahrschule Korn":MAILTO:info@fahrschule-korn.de
END:VEVENT
BEGIN:VEVENT
DTSTART;TZID=Europe/Berlin:20250919T080000
DTEND;TZID=Europe/Berlin:20250923T160000
DTSTAMP:20260422T024744
CREATED:20250610T121621Z
LAST-MODIFIED:20250610T122151Z
UID:10002129-1758268800-1758643200@www.fahrschule-korn.de
SUMMARY:Beschleunigte Grundqualifikation
DESCRIPTION:
URL:https://www.fahrschule-korn.de/termin/beschleunigte-grundqualifikation/2025-09-19/
LOCATION:Bayern
CATEGORIES:Beschleunigte Grundqualifikation
ORGANIZER;CN="Fahrschule Korn":MAILTO:info@fahrschule-korn.de
END:VEVENT
BEGIN:VEVENT
DTSTART;TZID=Europe/Berlin:20250922T180000
DTEND;TZID=Europe/Berlin:20250922T193000
DTSTAMP:20260422T024744
CREATED:20250610T122716Z
LAST-MODIFIED:20250822T091928Z
UID:10002161-1758564000-1758569400@www.fahrschule-korn.de
SUMMARY:LKW
DESCRIPTION:
URL:https://www.fahrschule-korn.de/termin/lkw-2/2025-09-22/
LOCATION:Standort Mühldorf\, Mainstraße 44\, Mühldorf a. Inn\, Bayern\, 84453
CATEGORIES:Klassenspezifischer Unterricht
ORGANIZER;CN="Fahrschule Korn":MAILTO:info@fahrschule-korn.de
END:VEVENT
BEGIN:VEVENT
DTSTART;TZID=Europe/Berlin:20250922T183000
DTEND;TZID=Europe/Berlin:20250922T200000
DTSTAMP:20260422T024744
CREATED:20230404T182725Z
LAST-MODIFIED:20240130T100245Z
UID:10001110-1758565800-1758571200@www.fahrschule-korn.de
SUMMARY:Grundunterricht Buchbach
DESCRIPTION:
URL:https://www.fahrschule-korn.de/termin/grundunterricht-buchbach/2025-09-22/
LOCATION:Standort Buchbach\, Andreas-Strobl-Straße 2\, Buchbach\, Bayern\, 84428
CATEGORIES:Grundunterricht
ORGANIZER;CN="Fahrschule Korn":MAILTO:info@fahrschule-korn.de
END:VEVENT
BEGIN:VEVENT
DTSTART;TZID=Europe/Berlin:20250923T183000
DTEND;TZID=Europe/Berlin:20250923T200000
DTSTAMP:20260422T024744
CREATED:20230404T182551Z
LAST-MODIFIED:20240130T101057Z
UID:10000561-1758652200-1758657600@www.fahrschule-korn.de
SUMMARY:Grundunterricht Mühldorf
DESCRIPTION:
URL:https://www.fahrschule-korn.de/termin/grundunterricht-muehldorf/2025-09-23/
LOCATION:Standort Mühldorf\, Mainstraße 44\, Mühldorf a. Inn\, Bayern\, 84453
CATEGORIES:Grundunterricht
ORGANIZER;CN="Fahrschule Korn":MAILTO:info@fahrschule-korn.de
END:VEVENT
BEGIN:VEVENT
DTSTART;TZID=Europe/Berlin:20250924T180000
DTEND;TZID=Europe/Berlin:20250924T193000
DTSTAMP:20260422T024744
CREATED:20250610T122716Z
LAST-MODIFIED:20250822T091928Z
UID:10002162-1758736800-1758742200@www.fahrschule-korn.de
SUMMARY:LKW
DESCRIPTION:
URL:https://www.fahrschule-korn.de/termin/lkw-2/2025-09-24/
LOCATION:Standort Mühldorf\, Mainstraße 44\, Mühldorf a. Inn\, Bayern\, 84453
CATEGORIES:Klassenspezifischer Unterricht
ORGANIZER;CN="Fahrschule Korn":MAILTO:info@fahrschule-korn.de
END:VEVENT
BEGIN:VEVENT
DTSTART;TZID=Europe/Berlin:20250924T183000
DTEND;TZID=Europe/Berlin:20250924T200000
DTSTAMP:20260422T024744
CREATED:20230404T182725Z
LAST-MODIFIED:20240130T100245Z
UID:10001111-1758738600-1758744000@www.fahrschule-korn.de
SUMMARY:Grundunterricht Buchbach
DESCRIPTION:
URL:https://www.fahrschule-korn.de/termin/grundunterricht-buchbach/2025-09-24/
LOCATION:Standort Buchbach\, Andreas-Strobl-Straße 2\, Buchbach\, Bayern\, 84428
CATEGORIES:Grundunterricht
ORGANIZER;CN="Fahrschule Korn":MAILTO:info@fahrschule-korn.de
END:VEVENT
BEGIN:VEVENT
DTSTART;TZID=Europe/Berlin:20250925T183000
DTEND;TZID=Europe/Berlin:20250925T200000
DTSTAMP:20260422T024744
CREATED:20230404T182551Z
LAST-MODIFIED:20240130T101057Z
UID:10000562-1758825000-1758830400@www.fahrschule-korn.de
SUMMARY:Grundunterricht Mühldorf
DESCRIPTION:
URL:https://www.fahrschule-korn.de/termin/grundunterricht-muehldorf/2025-09-25/
LOCATION:Standort Mühldorf\, Mainstraße 44\, Mühldorf a. Inn\, Bayern\, 84453
CATEGORIES:Grundunterricht
ORGANIZER;CN="Fahrschule Korn":MAILTO:info@fahrschule-korn.de
END:VEVENT
BEGIN:VEVENT
DTSTART;TZID=Europe/Berlin:20250929T180000
DTEND;TZID=Europe/Berlin:20250929T193000
DTSTAMP:20260422T024744
CREATED:20250610T122716Z
LAST-MODIFIED:20250822T091928Z
UID:10002163-1759168800-1759174200@www.fahrschule-korn.de
SUMMARY:LKW
DESCRIPTION:
URL:https://www.fahrschule-korn.de/termin/lkw-2/2025-09-29/
LOCATION:Standort Mühldorf\, Mainstraße 44\, Mühldorf a. Inn\, Bayern\, 84453
CATEGORIES:Klassenspezifischer Unterricht
ORGANIZER;CN="Fahrschule Korn":MAILTO:info@fahrschule-korn.de
END:VEVENT
BEGIN:VEVENT
DTSTART;TZID=Europe/Berlin:20250929T183000
DTEND;TZID=Europe/Berlin:20250929T200000
DTSTAMP:20260422T024744
CREATED:20230404T182725Z
LAST-MODIFIED:20240130T100245Z
UID:10001112-1759170600-1759176000@www.fahrschule-korn.de
SUMMARY:Grundunterricht Buchbach
DESCRIPTION:
URL:https://www.fahrschule-korn.de/termin/grundunterricht-buchbach/2025-09-29/
LOCATION:Standort Buchbach\, Andreas-Strobl-Straße 2\, Buchbach\, Bayern\, 84428
CATEGORIES:Grundunterricht
ORGANIZER;CN="Fahrschule Korn":MAILTO:info@fahrschule-korn.de
END:VEVENT
END:VCALENDAR