BEGIN:VCALENDAR
VERSION:2.0
PRODID:-//Fahrschule Korn - ECPv6.13.2.1//NONSGML v1.0//EN
CALSCALE:GREGORIAN
METHOD:PUBLISH
X-ORIGINAL-URL:https://www.fahrschule-korn.de
X-WR-CALDESC:Veranstaltungen für Fahrschule Korn
REFRESH-INTERVAL;VALUE=DURATION:PT1H
X-Robots-Tag:noindex
X-PUBLISHED-TTL:PT1H
BEGIN:VTIMEZONE
TZID:Europe/Berlin
BEGIN:DAYLIGHT
TZOFFSETFROM:+0100
TZOFFSETTO:+0200
TZNAME:CEST
DTSTART:20250330T010000
END:DAYLIGHT
BEGIN:STANDARD
TZOFFSETFROM:+0200
TZOFFSETTO:+0100
TZNAME:CET
DTSTART:20251026T010000
END:STANDARD
END:VTIMEZONE
BEGIN:VEVENT
DTSTART;TZID=Europe/Berlin:20250501T183000
DTEND;TZID=Europe/Berlin:20250501T200000
DTSTAMP:20260424T103924
CREATED:20230404T182551Z
LAST-MODIFIED:20240130T101057Z
UID:10000520-1746124200-1746129600@www.fahrschule-korn.de
SUMMARY:Grundunterricht Mühldorf
DESCRIPTION:
URL:https://www.fahrschule-korn.de/termin/grundunterricht-muehldorf/2025-05-01/
LOCATION:Standort Mühldorf\, Mainstraße 44\, Mühldorf a. Inn\, Bayern\, 84453
CATEGORIES:Grundunterricht
ORGANIZER;CN="Fahrschule Korn":MAILTO:info@fahrschule-korn.de
END:VEVENT
BEGIN:VEVENT
DTSTART;TZID=Europe/Berlin:20250505T183000
DTEND;TZID=Europe/Berlin:20250505T200000
DTSTAMP:20260424T103924
CREATED:20230404T182725Z
LAST-MODIFIED:20240130T100245Z
UID:10001070-1746469800-1746475200@www.fahrschule-korn.de
SUMMARY:Grundunterricht Buchbach
DESCRIPTION:
URL:https://www.fahrschule-korn.de/termin/grundunterricht-buchbach/2025-05-05/
LOCATION:Standort Buchbach\, Andreas-Strobl-Straße 2\, Buchbach\, Bayern\, 84428
CATEGORIES:Grundunterricht
ORGANIZER;CN="Fahrschule Korn":MAILTO:info@fahrschule-korn.de
END:VEVENT
BEGIN:VEVENT
DTSTART;TZID=Europe/Berlin:20250506T183000
DTEND;TZID=Europe/Berlin:20250506T200000
DTSTAMP:20260424T103924
CREATED:20230404T182551Z
LAST-MODIFIED:20240130T101057Z
UID:10000521-1746556200-1746561600@www.fahrschule-korn.de
SUMMARY:Grundunterricht Mühldorf
DESCRIPTION:
URL:https://www.fahrschule-korn.de/termin/grundunterricht-muehldorf/2025-05-06/
LOCATION:Standort Mühldorf\, Mainstraße 44\, Mühldorf a. Inn\, Bayern\, 84453
CATEGORIES:Grundunterricht
ORGANIZER;CN="Fahrschule Korn":MAILTO:info@fahrschule-korn.de
END:VEVENT
BEGIN:VEVENT
DTSTART;TZID=Europe/Berlin:20250507T183000
DTEND;TZID=Europe/Berlin:20250507T200000
DTSTAMP:20260424T103924
CREATED:20230404T182725Z
LAST-MODIFIED:20240130T100245Z
UID:10001071-1746642600-1746648000@www.fahrschule-korn.de
SUMMARY:Grundunterricht Buchbach
DESCRIPTION:
URL:https://www.fahrschule-korn.de/termin/grundunterricht-buchbach/2025-05-07/
LOCATION:Standort Buchbach\, Andreas-Strobl-Straße 2\, Buchbach\, Bayern\, 84428
CATEGORIES:Grundunterricht
ORGANIZER;CN="Fahrschule Korn":MAILTO:info@fahrschule-korn.de
END:VEVENT
BEGIN:VEVENT
DTSTART;TZID=Europe/Berlin:20250508T183000
DTEND;TZID=Europe/Berlin:20250508T200000
DTSTAMP:20260424T103924
CREATED:20230404T182551Z
LAST-MODIFIED:20240130T101057Z
UID:10000522-1746729000-1746734400@www.fahrschule-korn.de
SUMMARY:Grundunterricht Mühldorf
DESCRIPTION:
URL:https://www.fahrschule-korn.de/termin/grundunterricht-muehldorf/2025-05-08/
LOCATION:Standort Mühldorf\, Mainstraße 44\, Mühldorf a. Inn\, Bayern\, 84453
CATEGORIES:Grundunterricht
ORGANIZER;CN="Fahrschule Korn":MAILTO:info@fahrschule-korn.de
END:VEVENT
BEGIN:VEVENT
DTSTART;TZID=Europe/Berlin:20250512T183000
DTEND;TZID=Europe/Berlin:20250512T200000
DTSTAMP:20260424T103924
CREATED:20230404T182725Z
LAST-MODIFIED:20240130T100245Z
UID:10001072-1747074600-1747080000@www.fahrschule-korn.de
SUMMARY:Grundunterricht Buchbach
DESCRIPTION:
URL:https://www.fahrschule-korn.de/termin/grundunterricht-buchbach/2025-05-12/
LOCATION:Standort Buchbach\, Andreas-Strobl-Straße 2\, Buchbach\, Bayern\, 84428
CATEGORIES:Grundunterricht
ORGANIZER;CN="Fahrschule Korn":MAILTO:info@fahrschule-korn.de
END:VEVENT
BEGIN:VEVENT
DTSTART;TZID=Europe/Berlin:20250513T183000
DTEND;TZID=Europe/Berlin:20250513T200000
DTSTAMP:20260424T103924
CREATED:20230404T182551Z
LAST-MODIFIED:20240130T101057Z
UID:10000523-1747161000-1747166400@www.fahrschule-korn.de
SUMMARY:Grundunterricht Mühldorf
DESCRIPTION:
URL:https://www.fahrschule-korn.de/termin/grundunterricht-muehldorf/2025-05-13/
LOCATION:Standort Mühldorf\, Mainstraße 44\, Mühldorf a. Inn\, Bayern\, 84453
CATEGORIES:Grundunterricht
ORGANIZER;CN="Fahrschule Korn":MAILTO:info@fahrschule-korn.de
END:VEVENT
BEGIN:VEVENT
DTSTART;TZID=Europe/Berlin:20250514T183000
DTEND;TZID=Europe/Berlin:20250514T200000
DTSTAMP:20260424T103924
CREATED:20230404T182725Z
LAST-MODIFIED:20240130T100245Z
UID:10001073-1747247400-1747252800@www.fahrschule-korn.de
SUMMARY:Grundunterricht Buchbach
DESCRIPTION:
URL:https://www.fahrschule-korn.de/termin/grundunterricht-buchbach/2025-05-14/
LOCATION:Standort Buchbach\, Andreas-Strobl-Straße 2\, Buchbach\, Bayern\, 84428
CATEGORIES:Grundunterricht
ORGANIZER;CN="Fahrschule Korn":MAILTO:info@fahrschule-korn.de
END:VEVENT
BEGIN:VEVENT
DTSTART;TZID=Europe/Berlin:20250515T183000
DTEND;TZID=Europe/Berlin:20250515T200000
DTSTAMP:20260424T103924
CREATED:20230404T182551Z
LAST-MODIFIED:20240130T101057Z
UID:10000524-1747333800-1747339200@www.fahrschule-korn.de
SUMMARY:Grundunterricht Mühldorf
DESCRIPTION:
URL:https://www.fahrschule-korn.de/termin/grundunterricht-muehldorf/2025-05-15/
LOCATION:Standort Mühldorf\, Mainstraße 44\, Mühldorf a. Inn\, Bayern\, 84453
CATEGORIES:Grundunterricht
ORGANIZER;CN="Fahrschule Korn":MAILTO:info@fahrschule-korn.de
END:VEVENT
BEGIN:VEVENT
DTSTART;TZID=Europe/Berlin:20250519T183000
DTEND;TZID=Europe/Berlin:20250519T200000
DTSTAMP:20260424T103924
CREATED:20230404T182725Z
LAST-MODIFIED:20240130T100245Z
UID:10001074-1747679400-1747684800@www.fahrschule-korn.de
SUMMARY:Grundunterricht Buchbach
DESCRIPTION:
URL:https://www.fahrschule-korn.de/termin/grundunterricht-buchbach/2025-05-19/
LOCATION:Standort Buchbach\, Andreas-Strobl-Straße 2\, Buchbach\, Bayern\, 84428
CATEGORIES:Grundunterricht
ORGANIZER;CN="Fahrschule Korn":MAILTO:info@fahrschule-korn.de
END:VEVENT
BEGIN:VEVENT
DTSTART;TZID=Europe/Berlin:20250520T183000
DTEND;TZID=Europe/Berlin:20250520T200000
DTSTAMP:20260424T103924
CREATED:20230404T182551Z
LAST-MODIFIED:20240130T101057Z
UID:10000525-1747765800-1747771200@www.fahrschule-korn.de
SUMMARY:Grundunterricht Mühldorf
DESCRIPTION:
URL:https://www.fahrschule-korn.de/termin/grundunterricht-muehldorf/2025-05-20/
LOCATION:Standort Mühldorf\, Mainstraße 44\, Mühldorf a. Inn\, Bayern\, 84453
CATEGORIES:Grundunterricht
ORGANIZER;CN="Fahrschule Korn":MAILTO:info@fahrschule-korn.de
END:VEVENT
BEGIN:VEVENT
DTSTART;TZID=Europe/Berlin:20250521T183000
DTEND;TZID=Europe/Berlin:20250521T200000
DTSTAMP:20260424T103924
CREATED:20230404T182725Z
LAST-MODIFIED:20240130T100245Z
UID:10001075-1747852200-1747857600@www.fahrschule-korn.de
SUMMARY:Grundunterricht Buchbach
DESCRIPTION:
URL:https://www.fahrschule-korn.de/termin/grundunterricht-buchbach/2025-05-21/
LOCATION:Standort Buchbach\, Andreas-Strobl-Straße 2\, Buchbach\, Bayern\, 84428
CATEGORIES:Grundunterricht
ORGANIZER;CN="Fahrschule Korn":MAILTO:info@fahrschule-korn.de
END:VEVENT
BEGIN:VEVENT
DTSTART;TZID=Europe/Berlin:20250522T183000
DTEND;TZID=Europe/Berlin:20250522T200000
DTSTAMP:20260424T103924
CREATED:20230404T182551Z
LAST-MODIFIED:20240130T101057Z
UID:10000526-1747938600-1747944000@www.fahrschule-korn.de
SUMMARY:Grundunterricht Mühldorf
DESCRIPTION:
URL:https://www.fahrschule-korn.de/termin/grundunterricht-muehldorf/2025-05-22/
LOCATION:Standort Mühldorf\, Mainstraße 44\, Mühldorf a. Inn\, Bayern\, 84453
CATEGORIES:Grundunterricht
ORGANIZER;CN="Fahrschule Korn":MAILTO:info@fahrschule-korn.de
END:VEVENT
BEGIN:VEVENT
DTSTART;TZID=Europe/Berlin:20250526T183000
DTEND;TZID=Europe/Berlin:20250526T200000
DTSTAMP:20260424T103924
CREATED:20230404T182725Z
LAST-MODIFIED:20240130T100245Z
UID:10001076-1748284200-1748289600@www.fahrschule-korn.de
SUMMARY:Grundunterricht Buchbach
DESCRIPTION:
URL:https://www.fahrschule-korn.de/termin/grundunterricht-buchbach/2025-05-26/
LOCATION:Standort Buchbach\, Andreas-Strobl-Straße 2\, Buchbach\, Bayern\, 84428
CATEGORIES:Grundunterricht
ORGANIZER;CN="Fahrschule Korn":MAILTO:info@fahrschule-korn.de
END:VEVENT
BEGIN:VEVENT
DTSTART;TZID=Europe/Berlin:20250527T183000
DTEND;TZID=Europe/Berlin:20250527T200000
DTSTAMP:20260424T103924
CREATED:20230404T182551Z
LAST-MODIFIED:20240130T101057Z
UID:10000527-1748370600-1748376000@www.fahrschule-korn.de
SUMMARY:Grundunterricht Mühldorf
DESCRIPTION:
URL:https://www.fahrschule-korn.de/termin/grundunterricht-muehldorf/2025-05-27/
LOCATION:Standort Mühldorf\, Mainstraße 44\, Mühldorf a. Inn\, Bayern\, 84453
CATEGORIES:Grundunterricht
ORGANIZER;CN="Fahrschule Korn":MAILTO:info@fahrschule-korn.de
END:VEVENT
BEGIN:VEVENT
DTSTART;TZID=Europe/Berlin:20250528T183000
DTEND;TZID=Europe/Berlin:20250528T200000
DTSTAMP:20260424T103924
CREATED:20230404T182725Z
LAST-MODIFIED:20240130T100245Z
UID:10001077-1748457000-1748462400@www.fahrschule-korn.de
SUMMARY:Grundunterricht Buchbach
DESCRIPTION:
URL:https://www.fahrschule-korn.de/termin/grundunterricht-buchbach/2025-05-28/
LOCATION:Standort Buchbach\, Andreas-Strobl-Straße 2\, Buchbach\, Bayern\, 84428
CATEGORIES:Grundunterricht
ORGANIZER;CN="Fahrschule Korn":MAILTO:info@fahrschule-korn.de
END:VEVENT
BEGIN:VEVENT
DTSTART;TZID=Europe/Berlin:20250529T183000
DTEND;TZID=Europe/Berlin:20250529T200000
DTSTAMP:20260424T103924
CREATED:20230404T182551Z
LAST-MODIFIED:20240130T101057Z
UID:10000528-1748543400-1748548800@www.fahrschule-korn.de
SUMMARY:Grundunterricht Mühldorf
DESCRIPTION:
URL:https://www.fahrschule-korn.de/termin/grundunterricht-muehldorf/2025-05-29/
LOCATION:Standort Mühldorf\, Mainstraße 44\, Mühldorf a. Inn\, Bayern\, 84453
CATEGORIES:Grundunterricht
ORGANIZER;CN="Fahrschule Korn":MAILTO:info@fahrschule-korn.de
END:VEVENT
END:VCALENDAR