BEGIN:VCALENDAR
VERSION:2.0
PRODID:-//Fahrschule Korn - ECPv6.13.2.1//NONSGML v1.0//EN
CALSCALE:GREGORIAN
METHOD:PUBLISH
X-ORIGINAL-URL:https://www.fahrschule-korn.de
X-WR-CALDESC:Veranstaltungen für Fahrschule Korn
REFRESH-INTERVAL;VALUE=DURATION:PT1H
X-Robots-Tag:noindex
X-PUBLISHED-TTL:PT1H
BEGIN:VTIMEZONE
TZID:Europe/Berlin
BEGIN:DAYLIGHT
TZOFFSETFROM:+0100
TZOFFSETTO:+0200
TZNAME:CEST
DTSTART:20250330T010000
END:DAYLIGHT
BEGIN:STANDARD
TZOFFSETFROM:+0200
TZOFFSETTO:+0100
TZNAME:CET
DTSTART:20251026T010000
END:STANDARD
END:VTIMEZONE
BEGIN:VEVENT
DTSTART;TZID=Europe/Berlin:20250101T183000
DTEND;TZID=Europe/Berlin:20250101T200000
DTSTAMP:20260422T173632
CREATED:20230404T182725Z
LAST-MODIFIED:20240130T100245Z
UID:10001035-1735756200-1735761600@www.fahrschule-korn.de
SUMMARY:Grundunterricht Buchbach
DESCRIPTION:
URL:https://www.fahrschule-korn.de/termin/grundunterricht-buchbach/2025-01-01/
LOCATION:Standort Buchbach\, Andreas-Strobl-Straße 2\, Buchbach\, Bayern\, 84428
CATEGORIES:Grundunterricht
ORGANIZER;CN="Fahrschule Korn":MAILTO:info@fahrschule-korn.de
END:VEVENT
BEGIN:VEVENT
DTSTART;TZID=Europe/Berlin:20250102T183000
DTEND;TZID=Europe/Berlin:20250102T200000
DTSTAMP:20260422T173632
CREATED:20230404T182551Z
LAST-MODIFIED:20240130T101057Z
UID:10000486-1735842600-1735848000@www.fahrschule-korn.de
SUMMARY:Grundunterricht Mühldorf
DESCRIPTION:
URL:https://www.fahrschule-korn.de/termin/grundunterricht-muehldorf/2025-01-02/
LOCATION:Standort Mühldorf\, Mainstraße 44\, Mühldorf a. Inn\, Bayern\, 84453
CATEGORIES:Grundunterricht
ORGANIZER;CN="Fahrschule Korn":MAILTO:info@fahrschule-korn.de
END:VEVENT
BEGIN:VEVENT
DTSTART;TZID=Europe/Berlin:20250106T183000
DTEND;TZID=Europe/Berlin:20250106T200000
DTSTAMP:20260422T173632
CREATED:20230404T182725Z
LAST-MODIFIED:20240130T100245Z
UID:10001036-1736188200-1736193600@www.fahrschule-korn.de
SUMMARY:Grundunterricht Buchbach
DESCRIPTION:
URL:https://www.fahrschule-korn.de/termin/grundunterricht-buchbach/2025-01-06/
LOCATION:Standort Buchbach\, Andreas-Strobl-Straße 2\, Buchbach\, Bayern\, 84428
CATEGORIES:Grundunterricht
ORGANIZER;CN="Fahrschule Korn":MAILTO:info@fahrschule-korn.de
END:VEVENT
BEGIN:VEVENT
DTSTART;TZID=Europe/Berlin:20250107T183000
DTEND;TZID=Europe/Berlin:20250107T200000
DTSTAMP:20260422T173632
CREATED:20230404T182551Z
LAST-MODIFIED:20240130T101057Z
UID:10000487-1736274600-1736280000@www.fahrschule-korn.de
SUMMARY:Grundunterricht Mühldorf
DESCRIPTION:
URL:https://www.fahrschule-korn.de/termin/grundunterricht-muehldorf/2025-01-07/
LOCATION:Standort Mühldorf\, Mainstraße 44\, Mühldorf a. Inn\, Bayern\, 84453
CATEGORIES:Grundunterricht
ORGANIZER;CN="Fahrschule Korn":MAILTO:info@fahrschule-korn.de
END:VEVENT
BEGIN:VEVENT
DTSTART;TZID=Europe/Berlin:20250108T183000
DTEND;TZID=Europe/Berlin:20250108T200000
DTSTAMP:20260422T173632
CREATED:20230404T182725Z
LAST-MODIFIED:20240130T100245Z
UID:10001037-1736361000-1736366400@www.fahrschule-korn.de
SUMMARY:Grundunterricht Buchbach
DESCRIPTION:
URL:https://www.fahrschule-korn.de/termin/grundunterricht-buchbach/2025-01-08/
LOCATION:Standort Buchbach\, Andreas-Strobl-Straße 2\, Buchbach\, Bayern\, 84428
CATEGORIES:Grundunterricht
ORGANIZER;CN="Fahrschule Korn":MAILTO:info@fahrschule-korn.de
END:VEVENT
BEGIN:VEVENT
DTSTART;TZID=Europe/Berlin:20250109T183000
DTEND;TZID=Europe/Berlin:20250109T200000
DTSTAMP:20260422T173632
CREATED:20230404T182551Z
LAST-MODIFIED:20240130T101057Z
UID:10000488-1736447400-1736452800@www.fahrschule-korn.de
SUMMARY:Grundunterricht Mühldorf
DESCRIPTION:
URL:https://www.fahrschule-korn.de/termin/grundunterricht-muehldorf/2025-01-09/
LOCATION:Standort Mühldorf\, Mainstraße 44\, Mühldorf a. Inn\, Bayern\, 84453
CATEGORIES:Grundunterricht
ORGANIZER;CN="Fahrschule Korn":MAILTO:info@fahrschule-korn.de
END:VEVENT
BEGIN:VEVENT
DTSTART;TZID=Europe/Berlin:20250113T183000
DTEND;TZID=Europe/Berlin:20250113T200000
DTSTAMP:20260422T173632
CREATED:20230404T182725Z
LAST-MODIFIED:20240130T100245Z
UID:10001038-1736793000-1736798400@www.fahrschule-korn.de
SUMMARY:Grundunterricht Buchbach
DESCRIPTION:
URL:https://www.fahrschule-korn.de/termin/grundunterricht-buchbach/2025-01-13/
LOCATION:Standort Buchbach\, Andreas-Strobl-Straße 2\, Buchbach\, Bayern\, 84428
CATEGORIES:Grundunterricht
ORGANIZER;CN="Fahrschule Korn":MAILTO:info@fahrschule-korn.de
END:VEVENT
BEGIN:VEVENT
DTSTART;TZID=Europe/Berlin:20250114T183000
DTEND;TZID=Europe/Berlin:20250114T200000
DTSTAMP:20260422T173632
CREATED:20230404T182551Z
LAST-MODIFIED:20240130T101057Z
UID:10000489-1736879400-1736884800@www.fahrschule-korn.de
SUMMARY:Grundunterricht Mühldorf
DESCRIPTION:
URL:https://www.fahrschule-korn.de/termin/grundunterricht-muehldorf/2025-01-14/
LOCATION:Standort Mühldorf\, Mainstraße 44\, Mühldorf a. Inn\, Bayern\, 84453
CATEGORIES:Grundunterricht
ORGANIZER;CN="Fahrschule Korn":MAILTO:info@fahrschule-korn.de
END:VEVENT
BEGIN:VEVENT
DTSTART;TZID=Europe/Berlin:20250115T183000
DTEND;TZID=Europe/Berlin:20250115T200000
DTSTAMP:20260422T173632
CREATED:20230404T182725Z
LAST-MODIFIED:20240130T100245Z
UID:10001039-1736965800-1736971200@www.fahrschule-korn.de
SUMMARY:Grundunterricht Buchbach
DESCRIPTION:
URL:https://www.fahrschule-korn.de/termin/grundunterricht-buchbach/2025-01-15/
LOCATION:Standort Buchbach\, Andreas-Strobl-Straße 2\, Buchbach\, Bayern\, 84428
CATEGORIES:Grundunterricht
ORGANIZER;CN="Fahrschule Korn":MAILTO:info@fahrschule-korn.de
END:VEVENT
BEGIN:VEVENT
DTSTART;TZID=Europe/Berlin:20250116T183000
DTEND;TZID=Europe/Berlin:20250116T200000
DTSTAMP:20260422T173632
CREATED:20230404T182551Z
LAST-MODIFIED:20240130T101057Z
UID:10000490-1737052200-1737057600@www.fahrschule-korn.de
SUMMARY:Grundunterricht Mühldorf
DESCRIPTION:
URL:https://www.fahrschule-korn.de/termin/grundunterricht-muehldorf/2025-01-16/
LOCATION:Standort Mühldorf\, Mainstraße 44\, Mühldorf a. Inn\, Bayern\, 84453
CATEGORIES:Grundunterricht
ORGANIZER;CN="Fahrschule Korn":MAILTO:info@fahrschule-korn.de
END:VEVENT
BEGIN:VEVENT
DTSTART;TZID=Europe/Berlin:20250120T183000
DTEND;TZID=Europe/Berlin:20250120T200000
DTSTAMP:20260422T173632
CREATED:20230404T182725Z
LAST-MODIFIED:20240130T100245Z
UID:10001040-1737397800-1737403200@www.fahrschule-korn.de
SUMMARY:Grundunterricht Buchbach
DESCRIPTION:
URL:https://www.fahrschule-korn.de/termin/grundunterricht-buchbach/2025-01-20/
LOCATION:Standort Buchbach\, Andreas-Strobl-Straße 2\, Buchbach\, Bayern\, 84428
CATEGORIES:Grundunterricht
ORGANIZER;CN="Fahrschule Korn":MAILTO:info@fahrschule-korn.de
END:VEVENT
BEGIN:VEVENT
DTSTART;TZID=Europe/Berlin:20250121T183000
DTEND;TZID=Europe/Berlin:20250121T200000
DTSTAMP:20260422T173632
CREATED:20230404T182551Z
LAST-MODIFIED:20240130T101057Z
UID:10000491-1737484200-1737489600@www.fahrschule-korn.de
SUMMARY:Grundunterricht Mühldorf
DESCRIPTION:
URL:https://www.fahrschule-korn.de/termin/grundunterricht-muehldorf/2025-01-21/
LOCATION:Standort Mühldorf\, Mainstraße 44\, Mühldorf a. Inn\, Bayern\, 84453
CATEGORIES:Grundunterricht
ORGANIZER;CN="Fahrschule Korn":MAILTO:info@fahrschule-korn.de
END:VEVENT
BEGIN:VEVENT
DTSTART;TZID=Europe/Berlin:20250122T183000
DTEND;TZID=Europe/Berlin:20250122T200000
DTSTAMP:20260422T173632
CREATED:20230404T182725Z
LAST-MODIFIED:20240130T100245Z
UID:10001041-1737570600-1737576000@www.fahrschule-korn.de
SUMMARY:Grundunterricht Buchbach
DESCRIPTION:
URL:https://www.fahrschule-korn.de/termin/grundunterricht-buchbach/2025-01-22/
LOCATION:Standort Buchbach\, Andreas-Strobl-Straße 2\, Buchbach\, Bayern\, 84428
CATEGORIES:Grundunterricht
ORGANIZER;CN="Fahrschule Korn":MAILTO:info@fahrschule-korn.de
END:VEVENT
BEGIN:VEVENT
DTSTART;TZID=Europe/Berlin:20250123T183000
DTEND;TZID=Europe/Berlin:20250123T200000
DTSTAMP:20260422T173632
CREATED:20230404T182551Z
LAST-MODIFIED:20240130T101057Z
UID:10000492-1737657000-1737662400@www.fahrschule-korn.de
SUMMARY:Grundunterricht Mühldorf
DESCRIPTION:
URL:https://www.fahrschule-korn.de/termin/grundunterricht-muehldorf/2025-01-23/
LOCATION:Standort Mühldorf\, Mainstraße 44\, Mühldorf a. Inn\, Bayern\, 84453
CATEGORIES:Grundunterricht
ORGANIZER;CN="Fahrschule Korn":MAILTO:info@fahrschule-korn.de
END:VEVENT
BEGIN:VEVENT
DTSTART;TZID=Europe/Berlin:20250127T183000
DTEND;TZID=Europe/Berlin:20250127T200000
DTSTAMP:20260422T173632
CREATED:20230404T182725Z
LAST-MODIFIED:20240130T100245Z
UID:10001042-1738002600-1738008000@www.fahrschule-korn.de
SUMMARY:Grundunterricht Buchbach
DESCRIPTION:
URL:https://www.fahrschule-korn.de/termin/grundunterricht-buchbach/2025-01-27/
LOCATION:Standort Buchbach\, Andreas-Strobl-Straße 2\, Buchbach\, Bayern\, 84428
CATEGORIES:Grundunterricht
ORGANIZER;CN="Fahrschule Korn":MAILTO:info@fahrschule-korn.de
END:VEVENT
BEGIN:VEVENT
DTSTART;TZID=Europe/Berlin:20250128T183000
DTEND;TZID=Europe/Berlin:20250128T200000
DTSTAMP:20260422T173632
CREATED:20230404T182551Z
LAST-MODIFIED:20240130T101057Z
UID:10000493-1738089000-1738094400@www.fahrschule-korn.de
SUMMARY:Grundunterricht Mühldorf
DESCRIPTION:
URL:https://www.fahrschule-korn.de/termin/grundunterricht-muehldorf/2025-01-28/
LOCATION:Standort Mühldorf\, Mainstraße 44\, Mühldorf a. Inn\, Bayern\, 84453
CATEGORIES:Grundunterricht
ORGANIZER;CN="Fahrschule Korn":MAILTO:info@fahrschule-korn.de
END:VEVENT
BEGIN:VEVENT
DTSTART;TZID=Europe/Berlin:20250129T183000
DTEND;TZID=Europe/Berlin:20250129T200000
DTSTAMP:20260422T173632
CREATED:20230404T182725Z
LAST-MODIFIED:20240130T100245Z
UID:10001043-1738175400-1738180800@www.fahrschule-korn.de
SUMMARY:Grundunterricht Buchbach
DESCRIPTION:
URL:https://www.fahrschule-korn.de/termin/grundunterricht-buchbach/2025-01-29/
LOCATION:Standort Buchbach\, Andreas-Strobl-Straße 2\, Buchbach\, Bayern\, 84428
CATEGORIES:Grundunterricht
ORGANIZER;CN="Fahrschule Korn":MAILTO:info@fahrschule-korn.de
END:VEVENT
BEGIN:VEVENT
DTSTART;TZID=Europe/Berlin:20250130T183000
DTEND;TZID=Europe/Berlin:20250130T200000
DTSTAMP:20260422T173632
CREATED:20230404T182551Z
LAST-MODIFIED:20240130T101057Z
UID:10000494-1738261800-1738267200@www.fahrschule-korn.de
SUMMARY:Grundunterricht Mühldorf
DESCRIPTION:
URL:https://www.fahrschule-korn.de/termin/grundunterricht-muehldorf/2025-01-30/
LOCATION:Standort Mühldorf\, Mainstraße 44\, Mühldorf a. Inn\, Bayern\, 84453
CATEGORIES:Grundunterricht
ORGANIZER;CN="Fahrschule Korn":MAILTO:info@fahrschule-korn.de
END:VEVENT
END:VCALENDAR