BEGIN:VCALENDAR
VERSION:2.0
PRODID:-//Fahrschule Korn - ECPv6.13.2.1//NONSGML v1.0//EN
CALSCALE:GREGORIAN
METHOD:PUBLISH
X-ORIGINAL-URL:https://www.fahrschule-korn.de
X-WR-CALDESC:Veranstaltungen für Fahrschule Korn
REFRESH-INTERVAL;VALUE=DURATION:PT1H
X-Robots-Tag:noindex
X-PUBLISHED-TTL:PT1H
BEGIN:VTIMEZONE
TZID:Europe/Berlin
BEGIN:DAYLIGHT
TZOFFSETFROM:+0100
TZOFFSETTO:+0200
TZNAME:CEST
DTSTART:20240331T010000
END:DAYLIGHT
BEGIN:STANDARD
TZOFFSETFROM:+0200
TZOFFSETTO:+0100
TZNAME:CET
DTSTART:20241027T010000
END:STANDARD
END:VTIMEZONE
BEGIN:VEVENT
DTSTART;TZID=Europe/Berlin:20241102T080000
DTEND;TZID=Europe/Berlin:20241102T160000
DTSTAMP:20260422T212014
CREATED:20230309T213401Z
LAST-MODIFIED:20240130T094622Z
UID:10001385-1730534400-1730563200@www.fahrschule-korn.de
SUMMARY:Berufskraftfahrer Weiterbildung
DESCRIPTION:
URL:https://www.fahrschule-korn.de/termin/berufskraftfahrer-weiterbildung/2024-11-02/
LOCATION:Standort Mühldorf\, Mainstraße 44\, Mühldorf a. Inn\, Bayern\, 84453
CATEGORIES:Berufskraftfahrer Weiterbildung
ORGANIZER;CN="Fahrschule Korn":MAILTO:info@fahrschule-korn.de
END:VEVENT
BEGIN:VEVENT
DTSTART;TZID=Europe/Berlin:20241104T183000
DTEND;TZID=Europe/Berlin:20241104T200000
DTSTAMP:20260422T212015
CREATED:20230404T182725Z
LAST-MODIFIED:20240130T100245Z
UID:10001018-1730745000-1730750400@www.fahrschule-korn.de
SUMMARY:Grundunterricht Buchbach
DESCRIPTION:
URL:https://www.fahrschule-korn.de/termin/grundunterricht-buchbach/2024-11-04/
LOCATION:Standort Buchbach\, Andreas-Strobl-Straße 2\, Buchbach\, Bayern\, 84428
CATEGORIES:Grundunterricht
ORGANIZER;CN="Fahrschule Korn":MAILTO:info@fahrschule-korn.de
END:VEVENT
BEGIN:VEVENT
DTSTART;TZID=Europe/Berlin:20241105T183000
DTEND;TZID=Europe/Berlin:20241105T200000
DTSTAMP:20260422T212015
CREATED:20230404T182551Z
LAST-MODIFIED:20240130T101057Z
UID:10000469-1730831400-1730836800@www.fahrschule-korn.de
SUMMARY:Grundunterricht Mühldorf
DESCRIPTION:
URL:https://www.fahrschule-korn.de/termin/grundunterricht-muehldorf/2024-11-05/
LOCATION:Standort Mühldorf\, Mainstraße 44\, Mühldorf a. Inn\, Bayern\, 84453
CATEGORIES:Grundunterricht
ORGANIZER;CN="Fahrschule Korn":MAILTO:info@fahrschule-korn.de
END:VEVENT
BEGIN:VEVENT
DTSTART;TZID=Europe/Berlin:20241106T183000
DTEND;TZID=Europe/Berlin:20241106T200000
DTSTAMP:20260422T212015
CREATED:20230404T182725Z
LAST-MODIFIED:20240130T100245Z
UID:10001019-1730917800-1730923200@www.fahrschule-korn.de
SUMMARY:Grundunterricht Buchbach
DESCRIPTION:
URL:https://www.fahrschule-korn.de/termin/grundunterricht-buchbach/2024-11-06/
LOCATION:Standort Buchbach\, Andreas-Strobl-Straße 2\, Buchbach\, Bayern\, 84428
CATEGORIES:Grundunterricht
ORGANIZER;CN="Fahrschule Korn":MAILTO:info@fahrschule-korn.de
END:VEVENT
BEGIN:VEVENT
DTSTART;TZID=Europe/Berlin:20241107T183000
DTEND;TZID=Europe/Berlin:20241107T200000
DTSTAMP:20260422T212015
CREATED:20230404T182551Z
LAST-MODIFIED:20240130T101057Z
UID:10000470-1731004200-1731009600@www.fahrschule-korn.de
SUMMARY:Grundunterricht Mühldorf
DESCRIPTION:
URL:https://www.fahrschule-korn.de/termin/grundunterricht-muehldorf/2024-11-07/
LOCATION:Standort Mühldorf\, Mainstraße 44\, Mühldorf a. Inn\, Bayern\, 84453
CATEGORIES:Grundunterricht
ORGANIZER;CN="Fahrschule Korn":MAILTO:info@fahrschule-korn.de
END:VEVENT
BEGIN:VEVENT
DTSTART;TZID=Europe/Berlin:20241109T080000
DTEND;TZID=Europe/Berlin:20241109T160000
DTSTAMP:20260422T212015
CREATED:20230309T213401Z
LAST-MODIFIED:20240130T094622Z
UID:10001386-1731139200-1731168000@www.fahrschule-korn.de
SUMMARY:Berufskraftfahrer Weiterbildung
DESCRIPTION:
URL:https://www.fahrschule-korn.de/termin/berufskraftfahrer-weiterbildung/2024-11-09/
LOCATION:Standort Mühldorf\, Mainstraße 44\, Mühldorf a. Inn\, Bayern\, 84453
CATEGORIES:Berufskraftfahrer Weiterbildung
ORGANIZER;CN="Fahrschule Korn":MAILTO:info@fahrschule-korn.de
END:VEVENT
BEGIN:VEVENT
DTSTART;TZID=Europe/Berlin:20241111T183000
DTEND;TZID=Europe/Berlin:20241111T200000
DTSTAMP:20260422T212015
CREATED:20230404T182725Z
LAST-MODIFIED:20240130T100245Z
UID:10001020-1731349800-1731355200@www.fahrschule-korn.de
SUMMARY:Grundunterricht Buchbach
DESCRIPTION:
URL:https://www.fahrschule-korn.de/termin/grundunterricht-buchbach/2024-11-11/
LOCATION:Standort Buchbach\, Andreas-Strobl-Straße 2\, Buchbach\, Bayern\, 84428
CATEGORIES:Grundunterricht
ORGANIZER;CN="Fahrschule Korn":MAILTO:info@fahrschule-korn.de
END:VEVENT
BEGIN:VEVENT
DTSTART;TZID=Europe/Berlin:20241112T183000
DTEND;TZID=Europe/Berlin:20241112T200000
DTSTAMP:20260422T212015
CREATED:20230404T182551Z
LAST-MODIFIED:20240130T101057Z
UID:10000471-1731436200-1731441600@www.fahrschule-korn.de
SUMMARY:Grundunterricht Mühldorf
DESCRIPTION:
URL:https://www.fahrschule-korn.de/termin/grundunterricht-muehldorf/2024-11-12/
LOCATION:Standort Mühldorf\, Mainstraße 44\, Mühldorf a. Inn\, Bayern\, 84453
CATEGORIES:Grundunterricht
ORGANIZER;CN="Fahrschule Korn":MAILTO:info@fahrschule-korn.de
END:VEVENT
BEGIN:VEVENT
DTSTART;TZID=Europe/Berlin:20241113T183000
DTEND;TZID=Europe/Berlin:20241113T200000
DTSTAMP:20260422T212015
CREATED:20230404T182725Z
LAST-MODIFIED:20240130T100245Z
UID:10001021-1731522600-1731528000@www.fahrschule-korn.de
SUMMARY:Grundunterricht Buchbach
DESCRIPTION:
URL:https://www.fahrschule-korn.de/termin/grundunterricht-buchbach/2024-11-13/
LOCATION:Standort Buchbach\, Andreas-Strobl-Straße 2\, Buchbach\, Bayern\, 84428
CATEGORIES:Grundunterricht
ORGANIZER;CN="Fahrschule Korn":MAILTO:info@fahrschule-korn.de
END:VEVENT
BEGIN:VEVENT
DTSTART;TZID=Europe/Berlin:20241114T183000
DTEND;TZID=Europe/Berlin:20241114T200000
DTSTAMP:20260422T212015
CREATED:20230404T182551Z
LAST-MODIFIED:20240130T101057Z
UID:10000472-1731609000-1731614400@www.fahrschule-korn.de
SUMMARY:Grundunterricht Mühldorf
DESCRIPTION:
URL:https://www.fahrschule-korn.de/termin/grundunterricht-muehldorf/2024-11-14/
LOCATION:Standort Mühldorf\, Mainstraße 44\, Mühldorf a. Inn\, Bayern\, 84453
CATEGORIES:Grundunterricht
ORGANIZER;CN="Fahrschule Korn":MAILTO:info@fahrschule-korn.de
END:VEVENT
BEGIN:VEVENT
DTSTART;TZID=Europe/Berlin:20241116T080000
DTEND;TZID=Europe/Berlin:20241116T160000
DTSTAMP:20260422T212015
CREATED:20230309T213401Z
LAST-MODIFIED:20240130T094622Z
UID:10001387-1731744000-1731772800@www.fahrschule-korn.de
SUMMARY:Berufskraftfahrer Weiterbildung
DESCRIPTION:
URL:https://www.fahrschule-korn.de/termin/berufskraftfahrer-weiterbildung/2024-11-16/
LOCATION:Standort Mühldorf\, Mainstraße 44\, Mühldorf a. Inn\, Bayern\, 84453
CATEGORIES:Berufskraftfahrer Weiterbildung
ORGANIZER;CN="Fahrschule Korn":MAILTO:info@fahrschule-korn.de
END:VEVENT
BEGIN:VEVENT
DTSTART;TZID=Europe/Berlin:20241118T183000
DTEND;TZID=Europe/Berlin:20241118T200000
DTSTAMP:20260422T212015
CREATED:20230404T182725Z
LAST-MODIFIED:20240130T100245Z
UID:10001022-1731954600-1731960000@www.fahrschule-korn.de
SUMMARY:Grundunterricht Buchbach
DESCRIPTION:
URL:https://www.fahrschule-korn.de/termin/grundunterricht-buchbach/2024-11-18/
LOCATION:Standort Buchbach\, Andreas-Strobl-Straße 2\, Buchbach\, Bayern\, 84428
CATEGORIES:Grundunterricht
ORGANIZER;CN="Fahrschule Korn":MAILTO:info@fahrschule-korn.de
END:VEVENT
BEGIN:VEVENT
DTSTART;TZID=Europe/Berlin:20241119T183000
DTEND;TZID=Europe/Berlin:20241119T200000
DTSTAMP:20260422T212015
CREATED:20230404T182551Z
LAST-MODIFIED:20240130T101057Z
UID:10000473-1732041000-1732046400@www.fahrschule-korn.de
SUMMARY:Grundunterricht Mühldorf
DESCRIPTION:
URL:https://www.fahrschule-korn.de/termin/grundunterricht-muehldorf/2024-11-19/
LOCATION:Standort Mühldorf\, Mainstraße 44\, Mühldorf a. Inn\, Bayern\, 84453
CATEGORIES:Grundunterricht
ORGANIZER;CN="Fahrschule Korn":MAILTO:info@fahrschule-korn.de
END:VEVENT
BEGIN:VEVENT
DTSTART;TZID=Europe/Berlin:20241120T183000
DTEND;TZID=Europe/Berlin:20241120T200000
DTSTAMP:20260422T212015
CREATED:20230404T182725Z
LAST-MODIFIED:20240130T100245Z
UID:10001023-1732127400-1732132800@www.fahrschule-korn.de
SUMMARY:Grundunterricht Buchbach
DESCRIPTION:
URL:https://www.fahrschule-korn.de/termin/grundunterricht-buchbach/2024-11-20/
LOCATION:Standort Buchbach\, Andreas-Strobl-Straße 2\, Buchbach\, Bayern\, 84428
CATEGORIES:Grundunterricht
ORGANIZER;CN="Fahrschule Korn":MAILTO:info@fahrschule-korn.de
END:VEVENT
BEGIN:VEVENT
DTSTART;TZID=Europe/Berlin:20241121T183000
DTEND;TZID=Europe/Berlin:20241121T200000
DTSTAMP:20260422T212015
CREATED:20230404T182551Z
LAST-MODIFIED:20240130T101057Z
UID:10000474-1732213800-1732219200@www.fahrschule-korn.de
SUMMARY:Grundunterricht Mühldorf
DESCRIPTION:
URL:https://www.fahrschule-korn.de/termin/grundunterricht-muehldorf/2024-11-21/
LOCATION:Standort Mühldorf\, Mainstraße 44\, Mühldorf a. Inn\, Bayern\, 84453
CATEGORIES:Grundunterricht
ORGANIZER;CN="Fahrschule Korn":MAILTO:info@fahrschule-korn.de
END:VEVENT
BEGIN:VEVENT
DTSTART;TZID=Europe/Berlin:20241123T080000
DTEND;TZID=Europe/Berlin:20241123T160000
DTSTAMP:20260422T212015
CREATED:20230309T213401Z
LAST-MODIFIED:20240130T094622Z
UID:10001388-1732348800-1732377600@www.fahrschule-korn.de
SUMMARY:Berufskraftfahrer Weiterbildung
DESCRIPTION:
URL:https://www.fahrschule-korn.de/termin/berufskraftfahrer-weiterbildung/2024-11-23/
LOCATION:Standort Mühldorf\, Mainstraße 44\, Mühldorf a. Inn\, Bayern\, 84453
CATEGORIES:Berufskraftfahrer Weiterbildung
ORGANIZER;CN="Fahrschule Korn":MAILTO:info@fahrschule-korn.de
END:VEVENT
BEGIN:VEVENT
DTSTART;TZID=Europe/Berlin:20241125T183000
DTEND;TZID=Europe/Berlin:20241125T200000
DTSTAMP:20260422T212015
CREATED:20230404T182725Z
LAST-MODIFIED:20240130T100245Z
UID:10001024-1732559400-1732564800@www.fahrschule-korn.de
SUMMARY:Grundunterricht Buchbach
DESCRIPTION:
URL:https://www.fahrschule-korn.de/termin/grundunterricht-buchbach/2024-11-25/
LOCATION:Standort Buchbach\, Andreas-Strobl-Straße 2\, Buchbach\, Bayern\, 84428
CATEGORIES:Grundunterricht
ORGANIZER;CN="Fahrschule Korn":MAILTO:info@fahrschule-korn.de
END:VEVENT
BEGIN:VEVENT
DTSTART;TZID=Europe/Berlin:20241126T183000
DTEND;TZID=Europe/Berlin:20241126T200000
DTSTAMP:20260422T212015
CREATED:20230404T182551Z
LAST-MODIFIED:20240130T101057Z
UID:10000475-1732645800-1732651200@www.fahrschule-korn.de
SUMMARY:Grundunterricht Mühldorf
DESCRIPTION:
URL:https://www.fahrschule-korn.de/termin/grundunterricht-muehldorf/2024-11-26/
LOCATION:Standort Mühldorf\, Mainstraße 44\, Mühldorf a. Inn\, Bayern\, 84453
CATEGORIES:Grundunterricht
ORGANIZER;CN="Fahrschule Korn":MAILTO:info@fahrschule-korn.de
END:VEVENT
BEGIN:VEVENT
DTSTART;TZID=Europe/Berlin:20241127T183000
DTEND;TZID=Europe/Berlin:20241127T200000
DTSTAMP:20260422T212015
CREATED:20230404T182725Z
LAST-MODIFIED:20240130T100245Z
UID:10001025-1732732200-1732737600@www.fahrschule-korn.de
SUMMARY:Grundunterricht Buchbach
DESCRIPTION:
URL:https://www.fahrschule-korn.de/termin/grundunterricht-buchbach/2024-11-27/
LOCATION:Standort Buchbach\, Andreas-Strobl-Straße 2\, Buchbach\, Bayern\, 84428
CATEGORIES:Grundunterricht
ORGANIZER;CN="Fahrschule Korn":MAILTO:info@fahrschule-korn.de
END:VEVENT
BEGIN:VEVENT
DTSTART;TZID=Europe/Berlin:20241128T183000
DTEND;TZID=Europe/Berlin:20241128T200000
DTSTAMP:20260422T212015
CREATED:20230404T182551Z
LAST-MODIFIED:20240130T101057Z
UID:10000476-1732818600-1732824000@www.fahrschule-korn.de
SUMMARY:Grundunterricht Mühldorf
DESCRIPTION:
URL:https://www.fahrschule-korn.de/termin/grundunterricht-muehldorf/2024-11-28/
LOCATION:Standort Mühldorf\, Mainstraße 44\, Mühldorf a. Inn\, Bayern\, 84453
CATEGORIES:Grundunterricht
ORGANIZER;CN="Fahrschule Korn":MAILTO:info@fahrschule-korn.de
END:VEVENT
BEGIN:VEVENT
DTSTART;TZID=Europe/Berlin:20241130T080000
DTEND;TZID=Europe/Berlin:20241130T160000
DTSTAMP:20260422T212015
CREATED:20230309T213401Z
LAST-MODIFIED:20240130T094622Z
UID:10001389-1732953600-1732982400@www.fahrschule-korn.de
SUMMARY:Berufskraftfahrer Weiterbildung
DESCRIPTION:
URL:https://www.fahrschule-korn.de/termin/berufskraftfahrer-weiterbildung/2024-11-30/
LOCATION:Standort Mühldorf\, Mainstraße 44\, Mühldorf a. Inn\, Bayern\, 84453
CATEGORIES:Berufskraftfahrer Weiterbildung
ORGANIZER;CN="Fahrschule Korn":MAILTO:info@fahrschule-korn.de
END:VEVENT
END:VCALENDAR