BEGIN:VCALENDAR
VERSION:2.0
PRODID:-//Fahrschule Korn - ECPv6.13.2.1//NONSGML v1.0//EN
CALSCALE:GREGORIAN
METHOD:PUBLISH
X-ORIGINAL-URL:https://www.fahrschule-korn.de
X-WR-CALDESC:Veranstaltungen für Fahrschule Korn
REFRESH-INTERVAL;VALUE=DURATION:PT1H
X-Robots-Tag:noindex
X-PUBLISHED-TTL:PT1H
BEGIN:VTIMEZONE
TZID:Europe/Berlin
BEGIN:DAYLIGHT
TZOFFSETFROM:+0100
TZOFFSETTO:+0200
TZNAME:CEST
DTSTART:20240331T010000
END:DAYLIGHT
BEGIN:STANDARD
TZOFFSETFROM:+0200
TZOFFSETTO:+0100
TZNAME:CET
DTSTART:20241027T010000
END:STANDARD
END:VTIMEZONE
BEGIN:VEVENT
DTSTART;TZID=Europe/Berlin:20240603T183000
DTEND;TZID=Europe/Berlin:20240603T200000
DTSTAMP:20260424T183339
CREATED:20230404T182725Z
LAST-MODIFIED:20240130T100245Z
UID:10000974-1717439400-1717444800@www.fahrschule-korn.de
SUMMARY:Grundunterricht Buchbach
DESCRIPTION:
URL:https://www.fahrschule-korn.de/termin/grundunterricht-buchbach/2024-06-03/
LOCATION:Standort Buchbach\, Andreas-Strobl-Straße 2\, Buchbach\, Bayern\, 84428
CATEGORIES:Grundunterricht
ORGANIZER;CN="Fahrschule Korn":MAILTO:info@fahrschule-korn.de
END:VEVENT
BEGIN:VEVENT
DTSTART;TZID=Europe/Berlin:20240604T183000
DTEND;TZID=Europe/Berlin:20240604T200000
DTSTAMP:20260424T183339
CREATED:20230404T182551Z
LAST-MODIFIED:20240130T101057Z
UID:10000425-1717525800-1717531200@www.fahrschule-korn.de
SUMMARY:Grundunterricht Mühldorf
DESCRIPTION:
URL:https://www.fahrschule-korn.de/termin/grundunterricht-muehldorf/2024-06-04/
LOCATION:Standort Mühldorf\, Mainstraße 44\, Mühldorf a. Inn\, Bayern\, 84453
CATEGORIES:Grundunterricht
ORGANIZER;CN="Fahrschule Korn":MAILTO:info@fahrschule-korn.de
END:VEVENT
BEGIN:VEVENT
DTSTART;TZID=Europe/Berlin:20240605T183000
DTEND;TZID=Europe/Berlin:20240605T200000
DTSTAMP:20260424T183339
CREATED:20230404T182725Z
LAST-MODIFIED:20240130T100245Z
UID:10000975-1717612200-1717617600@www.fahrschule-korn.de
SUMMARY:Grundunterricht Buchbach
DESCRIPTION:
URL:https://www.fahrschule-korn.de/termin/grundunterricht-buchbach/2024-06-05/
LOCATION:Standort Buchbach\, Andreas-Strobl-Straße 2\, Buchbach\, Bayern\, 84428
CATEGORIES:Grundunterricht
ORGANIZER;CN="Fahrschule Korn":MAILTO:info@fahrschule-korn.de
END:VEVENT
BEGIN:VEVENT
DTSTART;TZID=Europe/Berlin:20240606T183000
DTEND;TZID=Europe/Berlin:20240606T200000
DTSTAMP:20260424T183339
CREATED:20230404T182551Z
LAST-MODIFIED:20240130T101057Z
UID:10000426-1717698600-1717704000@www.fahrschule-korn.de
SUMMARY:Grundunterricht Mühldorf
DESCRIPTION:
URL:https://www.fahrschule-korn.de/termin/grundunterricht-muehldorf/2024-06-06/
LOCATION:Standort Mühldorf\, Mainstraße 44\, Mühldorf a. Inn\, Bayern\, 84453
CATEGORIES:Grundunterricht
ORGANIZER;CN="Fahrschule Korn":MAILTO:info@fahrschule-korn.de
END:VEVENT
BEGIN:VEVENT
DTSTART;TZID=Europe/Berlin:20240610T183000
DTEND;TZID=Europe/Berlin:20240610T200000
DTSTAMP:20260424T183339
CREATED:20230404T182725Z
LAST-MODIFIED:20240130T100245Z
UID:10000976-1718044200-1718049600@www.fahrschule-korn.de
SUMMARY:Grundunterricht Buchbach
DESCRIPTION:
URL:https://www.fahrschule-korn.de/termin/grundunterricht-buchbach/2024-06-10/
LOCATION:Standort Buchbach\, Andreas-Strobl-Straße 2\, Buchbach\, Bayern\, 84428
CATEGORIES:Grundunterricht
ORGANIZER;CN="Fahrschule Korn":MAILTO:info@fahrschule-korn.de
END:VEVENT
BEGIN:VEVENT
DTSTART;TZID=Europe/Berlin:20240611T183000
DTEND;TZID=Europe/Berlin:20240611T200000
DTSTAMP:20260424T183339
CREATED:20230404T182551Z
LAST-MODIFIED:20240130T101057Z
UID:10000427-1718130600-1718136000@www.fahrschule-korn.de
SUMMARY:Grundunterricht Mühldorf
DESCRIPTION:
URL:https://www.fahrschule-korn.de/termin/grundunterricht-muehldorf/2024-06-11/
LOCATION:Standort Mühldorf\, Mainstraße 44\, Mühldorf a. Inn\, Bayern\, 84453
CATEGORIES:Grundunterricht
ORGANIZER;CN="Fahrschule Korn":MAILTO:info@fahrschule-korn.de
END:VEVENT
BEGIN:VEVENT
DTSTART;TZID=Europe/Berlin:20240612T183000
DTEND;TZID=Europe/Berlin:20240612T200000
DTSTAMP:20260424T183339
CREATED:20230404T182725Z
LAST-MODIFIED:20240130T100245Z
UID:10000977-1718217000-1718222400@www.fahrschule-korn.de
SUMMARY:Grundunterricht Buchbach
DESCRIPTION:
URL:https://www.fahrschule-korn.de/termin/grundunterricht-buchbach/2024-06-12/
LOCATION:Standort Buchbach\, Andreas-Strobl-Straße 2\, Buchbach\, Bayern\, 84428
CATEGORIES:Grundunterricht
ORGANIZER;CN="Fahrschule Korn":MAILTO:info@fahrschule-korn.de
END:VEVENT
BEGIN:VEVENT
DTSTART;TZID=Europe/Berlin:20240613T183000
DTEND;TZID=Europe/Berlin:20240613T200000
DTSTAMP:20260424T183339
CREATED:20230404T182551Z
LAST-MODIFIED:20240130T101057Z
UID:10000428-1718303400-1718308800@www.fahrschule-korn.de
SUMMARY:Grundunterricht Mühldorf
DESCRIPTION:
URL:https://www.fahrschule-korn.de/termin/grundunterricht-muehldorf/2024-06-13/
LOCATION:Standort Mühldorf\, Mainstraße 44\, Mühldorf a. Inn\, Bayern\, 84453
CATEGORIES:Grundunterricht
ORGANIZER;CN="Fahrschule Korn":MAILTO:info@fahrschule-korn.de
END:VEVENT
BEGIN:VEVENT
DTSTART;TZID=Europe/Berlin:20240617T183000
DTEND;TZID=Europe/Berlin:20240617T200000
DTSTAMP:20260424T183339
CREATED:20230404T182725Z
LAST-MODIFIED:20240130T100245Z
UID:10000978-1718649000-1718654400@www.fahrschule-korn.de
SUMMARY:Grundunterricht Buchbach
DESCRIPTION:
URL:https://www.fahrschule-korn.de/termin/grundunterricht-buchbach/2024-06-17/
LOCATION:Standort Buchbach\, Andreas-Strobl-Straße 2\, Buchbach\, Bayern\, 84428
CATEGORIES:Grundunterricht
ORGANIZER;CN="Fahrschule Korn":MAILTO:info@fahrschule-korn.de
END:VEVENT
BEGIN:VEVENT
DTSTART;TZID=Europe/Berlin:20240618T183000
DTEND;TZID=Europe/Berlin:20240618T200000
DTSTAMP:20260424T183339
CREATED:20230404T182551Z
LAST-MODIFIED:20240130T101057Z
UID:10000429-1718735400-1718740800@www.fahrschule-korn.de
SUMMARY:Grundunterricht Mühldorf
DESCRIPTION:
URL:https://www.fahrschule-korn.de/termin/grundunterricht-muehldorf/2024-06-18/
LOCATION:Standort Mühldorf\, Mainstraße 44\, Mühldorf a. Inn\, Bayern\, 84453
CATEGORIES:Grundunterricht
ORGANIZER;CN="Fahrschule Korn":MAILTO:info@fahrschule-korn.de
END:VEVENT
BEGIN:VEVENT
DTSTART;TZID=Europe/Berlin:20240619T183000
DTEND;TZID=Europe/Berlin:20240619T200000
DTSTAMP:20260424T183339
CREATED:20230404T182725Z
LAST-MODIFIED:20240130T100245Z
UID:10000979-1718821800-1718827200@www.fahrschule-korn.de
SUMMARY:Grundunterricht Buchbach
DESCRIPTION:
URL:https://www.fahrschule-korn.de/termin/grundunterricht-buchbach/2024-06-19/
LOCATION:Standort Buchbach\, Andreas-Strobl-Straße 2\, Buchbach\, Bayern\, 84428
CATEGORIES:Grundunterricht
ORGANIZER;CN="Fahrschule Korn":MAILTO:info@fahrschule-korn.de
END:VEVENT
BEGIN:VEVENT
DTSTART;TZID=Europe/Berlin:20240620T183000
DTEND;TZID=Europe/Berlin:20240620T200000
DTSTAMP:20260424T183339
CREATED:20230404T182551Z
LAST-MODIFIED:20240130T101057Z
UID:10000430-1718908200-1718913600@www.fahrschule-korn.de
SUMMARY:Grundunterricht Mühldorf
DESCRIPTION:
URL:https://www.fahrschule-korn.de/termin/grundunterricht-muehldorf/2024-06-20/
LOCATION:Standort Mühldorf\, Mainstraße 44\, Mühldorf a. Inn\, Bayern\, 84453
CATEGORIES:Grundunterricht
ORGANIZER;CN="Fahrschule Korn":MAILTO:info@fahrschule-korn.de
END:VEVENT
BEGIN:VEVENT
DTSTART;TZID=Europe/Berlin:20240624T183000
DTEND;TZID=Europe/Berlin:20240624T200000
DTSTAMP:20260424T183339
CREATED:20230404T182725Z
LAST-MODIFIED:20240130T100245Z
UID:10000980-1719253800-1719259200@www.fahrschule-korn.de
SUMMARY:Grundunterricht Buchbach
DESCRIPTION:
URL:https://www.fahrschule-korn.de/termin/grundunterricht-buchbach/2024-06-24/
LOCATION:Standort Buchbach\, Andreas-Strobl-Straße 2\, Buchbach\, Bayern\, 84428
CATEGORIES:Grundunterricht
ORGANIZER;CN="Fahrschule Korn":MAILTO:info@fahrschule-korn.de
END:VEVENT
BEGIN:VEVENT
DTSTART;TZID=Europe/Berlin:20240625T183000
DTEND;TZID=Europe/Berlin:20240625T200000
DTSTAMP:20260424T183339
CREATED:20230404T182551Z
LAST-MODIFIED:20240130T101057Z
UID:10000431-1719340200-1719345600@www.fahrschule-korn.de
SUMMARY:Grundunterricht Mühldorf
DESCRIPTION:
URL:https://www.fahrschule-korn.de/termin/grundunterricht-muehldorf/2024-06-25/
LOCATION:Standort Mühldorf\, Mainstraße 44\, Mühldorf a. Inn\, Bayern\, 84453
CATEGORIES:Grundunterricht
ORGANIZER;CN="Fahrschule Korn":MAILTO:info@fahrschule-korn.de
END:VEVENT
BEGIN:VEVENT
DTSTART;TZID=Europe/Berlin:20240626T183000
DTEND;TZID=Europe/Berlin:20240626T200000
DTSTAMP:20260424T183339
CREATED:20230404T182725Z
LAST-MODIFIED:20240130T100245Z
UID:10000981-1719426600-1719432000@www.fahrschule-korn.de
SUMMARY:Grundunterricht Buchbach
DESCRIPTION:
URL:https://www.fahrschule-korn.de/termin/grundunterricht-buchbach/2024-06-26/
LOCATION:Standort Buchbach\, Andreas-Strobl-Straße 2\, Buchbach\, Bayern\, 84428
CATEGORIES:Grundunterricht
ORGANIZER;CN="Fahrschule Korn":MAILTO:info@fahrschule-korn.de
END:VEVENT
BEGIN:VEVENT
DTSTART;TZID=Europe/Berlin:20240627T183000
DTEND;TZID=Europe/Berlin:20240627T200000
DTSTAMP:20260424T183339
CREATED:20230404T182551Z
LAST-MODIFIED:20240130T101057Z
UID:10000432-1719513000-1719518400@www.fahrschule-korn.de
SUMMARY:Grundunterricht Mühldorf
DESCRIPTION:
URL:https://www.fahrschule-korn.de/termin/grundunterricht-muehldorf/2024-06-27/
LOCATION:Standort Mühldorf\, Mainstraße 44\, Mühldorf a. Inn\, Bayern\, 84453
CATEGORIES:Grundunterricht
ORGANIZER;CN="Fahrschule Korn":MAILTO:info@fahrschule-korn.de
END:VEVENT
END:VCALENDAR