BEGIN:VCALENDAR
VERSION:2.0
PRODID:-//Fahrschule Korn - ECPv6.13.2.1//NONSGML v1.0//EN
CALSCALE:GREGORIAN
METHOD:PUBLISH
X-ORIGINAL-URL:https://www.fahrschule-korn.de
X-WR-CALDESC:Veranstaltungen für Fahrschule Korn
REFRESH-INTERVAL;VALUE=DURATION:PT1H
X-Robots-Tag:noindex
X-PUBLISHED-TTL:PT1H
BEGIN:VTIMEZONE
TZID:Europe/Berlin
BEGIN:DAYLIGHT
TZOFFSETFROM:+0100
TZOFFSETTO:+0200
TZNAME:CEST
DTSTART:20240331T010000
END:DAYLIGHT
BEGIN:STANDARD
TZOFFSETFROM:+0200
TZOFFSETTO:+0100
TZNAME:CET
DTSTART:20241027T010000
END:STANDARD
END:VTIMEZONE
BEGIN:VEVENT
DTSTART;TZID=Europe/Berlin:20240302T080000
DTEND;TZID=Europe/Berlin:20240302T160000
DTSTAMP:20260424T233809
CREATED:20230309T213401Z
LAST-MODIFIED:20240130T094622Z
UID:10001379-1709366400-1709395200@www.fahrschule-korn.de
SUMMARY:Berufskraftfahrer Weiterbildung
DESCRIPTION:
URL:https://www.fahrschule-korn.de/termin/berufskraftfahrer-weiterbildung/2024-03-02/
LOCATION:Standort Mühldorf\, Mainstraße 44\, Mühldorf a. Inn\, Bayern\, 84453
CATEGORIES:Berufskraftfahrer Weiterbildung
ORGANIZER;CN="Fahrschule Korn":MAILTO:info@fahrschule-korn.de
END:VEVENT
BEGIN:VEVENT
DTSTART;TZID=Europe/Berlin:20240304T183000
DTEND;TZID=Europe/Berlin:20240304T200000
DTSTAMP:20260424T233809
CREATED:20230404T182725Z
LAST-MODIFIED:20240130T100245Z
UID:10000948-1709577000-1709582400@www.fahrschule-korn.de
SUMMARY:Grundunterricht Buchbach
DESCRIPTION:
URL:https://www.fahrschule-korn.de/termin/grundunterricht-buchbach/2024-03-04/
LOCATION:Standort Buchbach\, Andreas-Strobl-Straße 2\, Buchbach\, Bayern\, 84428
CATEGORIES:Grundunterricht
ORGANIZER;CN="Fahrschule Korn":MAILTO:info@fahrschule-korn.de
END:VEVENT
BEGIN:VEVENT
DTSTART;TZID=Europe/Berlin:20240305T183000
DTEND;TZID=Europe/Berlin:20240305T200000
DTSTAMP:20260424T233809
CREATED:20230404T182551Z
LAST-MODIFIED:20240130T101057Z
UID:10000399-1709663400-1709668800@www.fahrschule-korn.de
SUMMARY:Grundunterricht Mühldorf
DESCRIPTION:
URL:https://www.fahrschule-korn.de/termin/grundunterricht-muehldorf/2024-03-05/
LOCATION:Standort Mühldorf\, Mainstraße 44\, Mühldorf a. Inn\, Bayern\, 84453
CATEGORIES:Grundunterricht
ORGANIZER;CN="Fahrschule Korn":MAILTO:info@fahrschule-korn.de
END:VEVENT
BEGIN:VEVENT
DTSTART;TZID=Europe/Berlin:20240306T183000
DTEND;TZID=Europe/Berlin:20240306T200000
DTSTAMP:20260424T233809
CREATED:20230404T182725Z
LAST-MODIFIED:20240130T100245Z
UID:10000949-1709749800-1709755200@www.fahrschule-korn.de
SUMMARY:Grundunterricht Buchbach
DESCRIPTION:
URL:https://www.fahrschule-korn.de/termin/grundunterricht-buchbach/2024-03-06/
LOCATION:Standort Buchbach\, Andreas-Strobl-Straße 2\, Buchbach\, Bayern\, 84428
CATEGORIES:Grundunterricht
ORGANIZER;CN="Fahrschule Korn":MAILTO:info@fahrschule-korn.de
END:VEVENT
BEGIN:VEVENT
DTSTART;TZID=Europe/Berlin:20240307T183000
DTEND;TZID=Europe/Berlin:20240307T200000
DTSTAMP:20260424T233809
CREATED:20230404T182551Z
LAST-MODIFIED:20240130T101057Z
UID:10000400-1709836200-1709841600@www.fahrschule-korn.de
SUMMARY:Grundunterricht Mühldorf
DESCRIPTION:
URL:https://www.fahrschule-korn.de/termin/grundunterricht-muehldorf/2024-03-07/
LOCATION:Standort Mühldorf\, Mainstraße 44\, Mühldorf a. Inn\, Bayern\, 84453
CATEGORIES:Grundunterricht
ORGANIZER;CN="Fahrschule Korn":MAILTO:info@fahrschule-korn.de
END:VEVENT
BEGIN:VEVENT
DTSTART;TZID=Europe/Berlin:20240309T080000
DTEND;TZID=Europe/Berlin:20240309T160000
DTSTAMP:20260424T233809
CREATED:20230309T213401Z
LAST-MODIFIED:20240130T094622Z
UID:10001380-1709971200-1710000000@www.fahrschule-korn.de
SUMMARY:Berufskraftfahrer Weiterbildung
DESCRIPTION:
URL:https://www.fahrschule-korn.de/termin/berufskraftfahrer-weiterbildung/2024-03-09/
LOCATION:Standort Mühldorf\, Mainstraße 44\, Mühldorf a. Inn\, Bayern\, 84453
CATEGORIES:Berufskraftfahrer Weiterbildung
ORGANIZER;CN="Fahrschule Korn":MAILTO:info@fahrschule-korn.de
END:VEVENT
BEGIN:VEVENT
DTSTART;TZID=Europe/Berlin:20240311T183000
DTEND;TZID=Europe/Berlin:20240311T200000
DTSTAMP:20260424T233809
CREATED:20230404T182725Z
LAST-MODIFIED:20240130T100245Z
UID:10000950-1710181800-1710187200@www.fahrschule-korn.de
SUMMARY:Grundunterricht Buchbach
DESCRIPTION:
URL:https://www.fahrschule-korn.de/termin/grundunterricht-buchbach/2024-03-11/
LOCATION:Standort Buchbach\, Andreas-Strobl-Straße 2\, Buchbach\, Bayern\, 84428
CATEGORIES:Grundunterricht
ORGANIZER;CN="Fahrschule Korn":MAILTO:info@fahrschule-korn.de
END:VEVENT
BEGIN:VEVENT
DTSTART;TZID=Europe/Berlin:20240312T183000
DTEND;TZID=Europe/Berlin:20240312T200000
DTSTAMP:20260424T233809
CREATED:20230404T182551Z
LAST-MODIFIED:20240130T101057Z
UID:10000401-1710268200-1710273600@www.fahrschule-korn.de
SUMMARY:Grundunterricht Mühldorf
DESCRIPTION:
URL:https://www.fahrschule-korn.de/termin/grundunterricht-muehldorf/2024-03-12/
LOCATION:Standort Mühldorf\, Mainstraße 44\, Mühldorf a. Inn\, Bayern\, 84453
CATEGORIES:Grundunterricht
ORGANIZER;CN="Fahrschule Korn":MAILTO:info@fahrschule-korn.de
END:VEVENT
BEGIN:VEVENT
DTSTART;TZID=Europe/Berlin:20240313T183000
DTEND;TZID=Europe/Berlin:20240313T200000
DTSTAMP:20260424T233809
CREATED:20230404T182725Z
LAST-MODIFIED:20240130T100245Z
UID:10000951-1710354600-1710360000@www.fahrschule-korn.de
SUMMARY:Grundunterricht Buchbach
DESCRIPTION:
URL:https://www.fahrschule-korn.de/termin/grundunterricht-buchbach/2024-03-13/
LOCATION:Standort Buchbach\, Andreas-Strobl-Straße 2\, Buchbach\, Bayern\, 84428
CATEGORIES:Grundunterricht
ORGANIZER;CN="Fahrschule Korn":MAILTO:info@fahrschule-korn.de
END:VEVENT
BEGIN:VEVENT
DTSTART;TZID=Europe/Berlin:20240314T183000
DTEND;TZID=Europe/Berlin:20240314T200000
DTSTAMP:20260424T233809
CREATED:20230404T182551Z
LAST-MODIFIED:20240130T101057Z
UID:10000402-1710441000-1710446400@www.fahrschule-korn.de
SUMMARY:Grundunterricht Mühldorf
DESCRIPTION:
URL:https://www.fahrschule-korn.de/termin/grundunterricht-muehldorf/2024-03-14/
LOCATION:Standort Mühldorf\, Mainstraße 44\, Mühldorf a. Inn\, Bayern\, 84453
CATEGORIES:Grundunterricht
ORGANIZER;CN="Fahrschule Korn":MAILTO:info@fahrschule-korn.de
END:VEVENT
BEGIN:VEVENT
DTSTART;TZID=Europe/Berlin:20240316T080000
DTEND;TZID=Europe/Berlin:20240316T160000
DTSTAMP:20260424T233809
CREATED:20230309T213401Z
LAST-MODIFIED:20240130T094622Z
UID:10001381-1710576000-1710604800@www.fahrschule-korn.de
SUMMARY:Berufskraftfahrer Weiterbildung
DESCRIPTION:
URL:https://www.fahrschule-korn.de/termin/berufskraftfahrer-weiterbildung/2024-03-16/
LOCATION:Standort Mühldorf\, Mainstraße 44\, Mühldorf a. Inn\, Bayern\, 84453
CATEGORIES:Berufskraftfahrer Weiterbildung
ORGANIZER;CN="Fahrschule Korn":MAILTO:info@fahrschule-korn.de
END:VEVENT
BEGIN:VEVENT
DTSTART;TZID=Europe/Berlin:20240318T183000
DTEND;TZID=Europe/Berlin:20240318T200000
DTSTAMP:20260424T233809
CREATED:20230404T182725Z
LAST-MODIFIED:20240130T100245Z
UID:10000952-1710786600-1710792000@www.fahrschule-korn.de
SUMMARY:Grundunterricht Buchbach
DESCRIPTION:
URL:https://www.fahrschule-korn.de/termin/grundunterricht-buchbach/2024-03-18/
LOCATION:Standort Buchbach\, Andreas-Strobl-Straße 2\, Buchbach\, Bayern\, 84428
CATEGORIES:Grundunterricht
ORGANIZER;CN="Fahrschule Korn":MAILTO:info@fahrschule-korn.de
END:VEVENT
BEGIN:VEVENT
DTSTART;TZID=Europe/Berlin:20240319T183000
DTEND;TZID=Europe/Berlin:20240319T200000
DTSTAMP:20260424T233809
CREATED:20230404T182551Z
LAST-MODIFIED:20240130T101057Z
UID:10000403-1710873000-1710878400@www.fahrschule-korn.de
SUMMARY:Grundunterricht Mühldorf
DESCRIPTION:
URL:https://www.fahrschule-korn.de/termin/grundunterricht-muehldorf/2024-03-19/
LOCATION:Standort Mühldorf\, Mainstraße 44\, Mühldorf a. Inn\, Bayern\, 84453
CATEGORIES:Grundunterricht
ORGANIZER;CN="Fahrschule Korn":MAILTO:info@fahrschule-korn.de
END:VEVENT
BEGIN:VEVENT
DTSTART;TZID=Europe/Berlin:20240320T183000
DTEND;TZID=Europe/Berlin:20240320T200000
DTSTAMP:20260424T233809
CREATED:20230404T182725Z
LAST-MODIFIED:20240130T100245Z
UID:10000953-1710959400-1710964800@www.fahrschule-korn.de
SUMMARY:Grundunterricht Buchbach
DESCRIPTION:
URL:https://www.fahrschule-korn.de/termin/grundunterricht-buchbach/2024-03-20/
LOCATION:Standort Buchbach\, Andreas-Strobl-Straße 2\, Buchbach\, Bayern\, 84428
CATEGORIES:Grundunterricht
ORGANIZER;CN="Fahrschule Korn":MAILTO:info@fahrschule-korn.de
END:VEVENT
BEGIN:VEVENT
DTSTART;TZID=Europe/Berlin:20240321T183000
DTEND;TZID=Europe/Berlin:20240321T200000
DTSTAMP:20260424T233809
CREATED:20230404T182551Z
LAST-MODIFIED:20240130T101057Z
UID:10000404-1711045800-1711051200@www.fahrschule-korn.de
SUMMARY:Grundunterricht Mühldorf
DESCRIPTION:
URL:https://www.fahrschule-korn.de/termin/grundunterricht-muehldorf/2024-03-21/
LOCATION:Standort Mühldorf\, Mainstraße 44\, Mühldorf a. Inn\, Bayern\, 84453
CATEGORIES:Grundunterricht
ORGANIZER;CN="Fahrschule Korn":MAILTO:info@fahrschule-korn.de
END:VEVENT
BEGIN:VEVENT
DTSTART;TZID=Europe/Berlin:20240325T183000
DTEND;TZID=Europe/Berlin:20240325T200000
DTSTAMP:20260424T233809
CREATED:20230404T182725Z
LAST-MODIFIED:20240130T100245Z
UID:10000954-1711391400-1711396800@www.fahrschule-korn.de
SUMMARY:Grundunterricht Buchbach
DESCRIPTION:
URL:https://www.fahrschule-korn.de/termin/grundunterricht-buchbach/2024-03-25/
LOCATION:Standort Buchbach\, Andreas-Strobl-Straße 2\, Buchbach\, Bayern\, 84428
CATEGORIES:Grundunterricht
ORGANIZER;CN="Fahrschule Korn":MAILTO:info@fahrschule-korn.de
END:VEVENT
BEGIN:VEVENT
DTSTART;TZID=Europe/Berlin:20240326T183000
DTEND;TZID=Europe/Berlin:20240326T200000
DTSTAMP:20260424T233809
CREATED:20230404T182551Z
LAST-MODIFIED:20240130T101057Z
UID:10000405-1711477800-1711483200@www.fahrschule-korn.de
SUMMARY:Grundunterricht Mühldorf
DESCRIPTION:
URL:https://www.fahrschule-korn.de/termin/grundunterricht-muehldorf/2024-03-26/
LOCATION:Standort Mühldorf\, Mainstraße 44\, Mühldorf a. Inn\, Bayern\, 84453
CATEGORIES:Grundunterricht
ORGANIZER;CN="Fahrschule Korn":MAILTO:info@fahrschule-korn.de
END:VEVENT
BEGIN:VEVENT
DTSTART;TZID=Europe/Berlin:20240327T183000
DTEND;TZID=Europe/Berlin:20240327T200000
DTSTAMP:20260424T233809
CREATED:20230404T182725Z
LAST-MODIFIED:20240130T100245Z
UID:10000955-1711564200-1711569600@www.fahrschule-korn.de
SUMMARY:Grundunterricht Buchbach
DESCRIPTION:
URL:https://www.fahrschule-korn.de/termin/grundunterricht-buchbach/2024-03-27/
LOCATION:Standort Buchbach\, Andreas-Strobl-Straße 2\, Buchbach\, Bayern\, 84428
CATEGORIES:Grundunterricht
ORGANIZER;CN="Fahrschule Korn":MAILTO:info@fahrschule-korn.de
END:VEVENT
BEGIN:VEVENT
DTSTART;TZID=Europe/Berlin:20240328T183000
DTEND;TZID=Europe/Berlin:20240328T200000
DTSTAMP:20260424T233809
CREATED:20230404T182551Z
LAST-MODIFIED:20240130T101057Z
UID:10000406-1711650600-1711656000@www.fahrschule-korn.de
SUMMARY:Grundunterricht Mühldorf
DESCRIPTION:
URL:https://www.fahrschule-korn.de/termin/grundunterricht-muehldorf/2024-03-28/
LOCATION:Standort Mühldorf\, Mainstraße 44\, Mühldorf a. Inn\, Bayern\, 84453
CATEGORIES:Grundunterricht
ORGANIZER;CN="Fahrschule Korn":MAILTO:info@fahrschule-korn.de
END:VEVENT
END:VCALENDAR