BEGIN:VCALENDAR
VERSION:2.0
PRODID:-//Fahrschule Korn - ECPv6.13.2.1//NONSGML v1.0//EN
CALSCALE:GREGORIAN
METHOD:PUBLISH
X-WR-CALNAME:Fahrschule Korn
X-ORIGINAL-URL:https://www.fahrschule-korn.de
X-WR-CALDESC:Veranstaltungen für Fahrschule Korn
REFRESH-INTERVAL;VALUE=DURATION:PT1H
X-Robots-Tag:noindex
X-PUBLISHED-TTL:PT1H
BEGIN:VTIMEZONE
TZID:Europe/Berlin
BEGIN:DAYLIGHT
TZOFFSETFROM:+0100
TZOFFSETTO:+0200
TZNAME:CEST
DTSTART:20240331T010000
END:DAYLIGHT
BEGIN:STANDARD
TZOFFSETFROM:+0200
TZOFFSETTO:+0100
TZNAME:CET
DTSTART:20241027T010000
END:STANDARD
END:VTIMEZONE
BEGIN:VEVENT
DTSTART;TZID=Europe/Berlin:20240201T183000
DTEND;TZID=Europe/Berlin:20240201T200000
DTSTAMP:20260425T013203
CREATED:20230404T182551Z
LAST-MODIFIED:20240130T101057Z
UID:10000390-1706812200-1706817600@www.fahrschule-korn.de
SUMMARY:Grundunterricht Mühldorf
DESCRIPTION:
URL:https://www.fahrschule-korn.de/termin/grundunterricht-muehldorf/2024-02-01/
LOCATION:Standort Mühldorf\, Mainstraße 44\, Mühldorf a. Inn\, Bayern\, 84453
CATEGORIES:Grundunterricht
ORGANIZER;CN="Fahrschule Korn":MAILTO:info@fahrschule-korn.de
END:VEVENT
BEGIN:VEVENT
DTSTART;TZID=Europe/Berlin:20240203T080000
DTEND;TZID=Europe/Berlin:20240203T160000
DTSTAMP:20260425T013203
CREATED:20230309T213401Z
LAST-MODIFIED:20240130T094622Z
UID:10001375-1706947200-1706976000@www.fahrschule-korn.de
SUMMARY:Berufskraftfahrer Weiterbildung
DESCRIPTION:
URL:https://www.fahrschule-korn.de/termin/berufskraftfahrer-weiterbildung/2024-02-03/
LOCATION:Standort Mühldorf\, Mainstraße 44\, Mühldorf a. Inn\, Bayern\, 84453
CATEGORIES:Berufskraftfahrer Weiterbildung
ORGANIZER;CN="Fahrschule Korn":MAILTO:info@fahrschule-korn.de
END:VEVENT
BEGIN:VEVENT
DTSTART;TZID=Europe/Berlin:20240205T183000
DTEND;TZID=Europe/Berlin:20240205T200000
DTSTAMP:20260425T013203
CREATED:20230404T182725Z
LAST-MODIFIED:20240130T100245Z
UID:10000940-1707157800-1707163200@www.fahrschule-korn.de
SUMMARY:Grundunterricht Buchbach
DESCRIPTION:
URL:https://www.fahrschule-korn.de/termin/grundunterricht-buchbach/2024-02-05/
LOCATION:Standort Buchbach\, Andreas-Strobl-Straße 2\, Buchbach\, Bayern\, 84428
CATEGORIES:Grundunterricht
ORGANIZER;CN="Fahrschule Korn":MAILTO:info@fahrschule-korn.de
END:VEVENT
BEGIN:VEVENT
DTSTART;TZID=Europe/Berlin:20240206T183000
DTEND;TZID=Europe/Berlin:20240206T200000
DTSTAMP:20260425T013203
CREATED:20230404T182551Z
LAST-MODIFIED:20240130T101057Z
UID:10000391-1707244200-1707249600@www.fahrschule-korn.de
SUMMARY:Grundunterricht Mühldorf
DESCRIPTION:
URL:https://www.fahrschule-korn.de/termin/grundunterricht-muehldorf/2024-02-06/
LOCATION:Standort Mühldorf\, Mainstraße 44\, Mühldorf a. Inn\, Bayern\, 84453
CATEGORIES:Grundunterricht
ORGANIZER;CN="Fahrschule Korn":MAILTO:info@fahrschule-korn.de
END:VEVENT
BEGIN:VEVENT
DTSTART;TZID=Europe/Berlin:20240207T183000
DTEND;TZID=Europe/Berlin:20240207T200000
DTSTAMP:20260425T013203
CREATED:20230404T182725Z
LAST-MODIFIED:20240130T100245Z
UID:10000941-1707330600-1707336000@www.fahrschule-korn.de
SUMMARY:Grundunterricht Buchbach
DESCRIPTION:
URL:https://www.fahrschule-korn.de/termin/grundunterricht-buchbach/2024-02-07/
LOCATION:Standort Buchbach\, Andreas-Strobl-Straße 2\, Buchbach\, Bayern\, 84428
CATEGORIES:Grundunterricht
ORGANIZER;CN="Fahrschule Korn":MAILTO:info@fahrschule-korn.de
END:VEVENT
BEGIN:VEVENT
DTSTART;TZID=Europe/Berlin:20240208T183000
DTEND;TZID=Europe/Berlin:20240208T200000
DTSTAMP:20260425T013203
CREATED:20230404T182551Z
LAST-MODIFIED:20240130T101057Z
UID:10000392-1707417000-1707422400@www.fahrschule-korn.de
SUMMARY:Grundunterricht Mühldorf
DESCRIPTION:
URL:https://www.fahrschule-korn.de/termin/grundunterricht-muehldorf/2024-02-08/
LOCATION:Standort Mühldorf\, Mainstraße 44\, Mühldorf a. Inn\, Bayern\, 84453
CATEGORIES:Grundunterricht
ORGANIZER;CN="Fahrschule Korn":MAILTO:info@fahrschule-korn.de
END:VEVENT
BEGIN:VEVENT
DTSTART;TZID=Europe/Berlin:20240210T080000
DTEND;TZID=Europe/Berlin:20240210T160000
DTSTAMP:20260425T013203
CREATED:20230309T213401Z
LAST-MODIFIED:20240130T094622Z
UID:10001376-1707552000-1707580800@www.fahrschule-korn.de
SUMMARY:Berufskraftfahrer Weiterbildung
DESCRIPTION:
URL:https://www.fahrschule-korn.de/termin/berufskraftfahrer-weiterbildung/2024-02-10/
LOCATION:Standort Mühldorf\, Mainstraße 44\, Mühldorf a. Inn\, Bayern\, 84453
CATEGORIES:Berufskraftfahrer Weiterbildung
ORGANIZER;CN="Fahrschule Korn":MAILTO:info@fahrschule-korn.de
END:VEVENT
BEGIN:VEVENT
DTSTART;TZID=Europe/Berlin:20240213T183000
DTEND;TZID=Europe/Berlin:20240213T200000
DTSTAMP:20260425T013203
CREATED:20230404T182551Z
LAST-MODIFIED:20240130T101057Z
UID:10000393-1707849000-1707854400@www.fahrschule-korn.de
SUMMARY:Grundunterricht Mühldorf
DESCRIPTION:
URL:https://www.fahrschule-korn.de/termin/grundunterricht-muehldorf/2024-02-13/
LOCATION:Standort Mühldorf\, Mainstraße 44\, Mühldorf a. Inn\, Bayern\, 84453
CATEGORIES:Grundunterricht
ORGANIZER;CN="Fahrschule Korn":MAILTO:info@fahrschule-korn.de
END:VEVENT
BEGIN:VEVENT
DTSTART;TZID=Europe/Berlin:20240214T183000
DTEND;TZID=Europe/Berlin:20240214T200000
DTSTAMP:20260425T013203
CREATED:20230404T182725Z
LAST-MODIFIED:20240130T100245Z
UID:10000943-1707935400-1707940800@www.fahrschule-korn.de
SUMMARY:Grundunterricht Buchbach
DESCRIPTION:
URL:https://www.fahrschule-korn.de/termin/grundunterricht-buchbach/2024-02-14/
LOCATION:Standort Buchbach\, Andreas-Strobl-Straße 2\, Buchbach\, Bayern\, 84428
CATEGORIES:Grundunterricht
ORGANIZER;CN="Fahrschule Korn":MAILTO:info@fahrschule-korn.de
END:VEVENT
BEGIN:VEVENT
DTSTART;TZID=Europe/Berlin:20240215T183000
DTEND;TZID=Europe/Berlin:20240215T200000
DTSTAMP:20260425T013203
CREATED:20230404T182551Z
LAST-MODIFIED:20240130T101057Z
UID:10000394-1708021800-1708027200@www.fahrschule-korn.de
SUMMARY:Grundunterricht Mühldorf
DESCRIPTION:
URL:https://www.fahrschule-korn.de/termin/grundunterricht-muehldorf/2024-02-15/
LOCATION:Standort Mühldorf\, Mainstraße 44\, Mühldorf a. Inn\, Bayern\, 84453
CATEGORIES:Grundunterricht
ORGANIZER;CN="Fahrschule Korn":MAILTO:info@fahrschule-korn.de
END:VEVENT
BEGIN:VEVENT
DTSTART;TZID=Europe/Berlin:20240217T080000
DTEND;TZID=Europe/Berlin:20240217T160000
DTSTAMP:20260425T013203
CREATED:20230309T213401Z
LAST-MODIFIED:20240130T094622Z
UID:10001377-1708156800-1708185600@www.fahrschule-korn.de
SUMMARY:Berufskraftfahrer Weiterbildung
DESCRIPTION:
URL:https://www.fahrschule-korn.de/termin/berufskraftfahrer-weiterbildung/2024-02-17/
LOCATION:Standort Mühldorf\, Mainstraße 44\, Mühldorf a. Inn\, Bayern\, 84453
CATEGORIES:Berufskraftfahrer Weiterbildung
ORGANIZER;CN="Fahrschule Korn":MAILTO:info@fahrschule-korn.de
END:VEVENT
BEGIN:VEVENT
DTSTART;TZID=Europe/Berlin:20240219T183000
DTEND;TZID=Europe/Berlin:20240219T200000
DTSTAMP:20260425T013203
CREATED:20230404T182725Z
LAST-MODIFIED:20240130T100245Z
UID:10000944-1708367400-1708372800@www.fahrschule-korn.de
SUMMARY:Grundunterricht Buchbach
DESCRIPTION:
URL:https://www.fahrschule-korn.de/termin/grundunterricht-buchbach/2024-02-19/
LOCATION:Standort Buchbach\, Andreas-Strobl-Straße 2\, Buchbach\, Bayern\, 84428
CATEGORIES:Grundunterricht
ORGANIZER;CN="Fahrschule Korn":MAILTO:info@fahrschule-korn.de
END:VEVENT
BEGIN:VEVENT
DTSTART;TZID=Europe/Berlin:20240220T183000
DTEND;TZID=Europe/Berlin:20240220T200000
DTSTAMP:20260425T013203
CREATED:20230404T182551Z
LAST-MODIFIED:20240130T101057Z
UID:10000395-1708453800-1708459200@www.fahrschule-korn.de
SUMMARY:Grundunterricht Mühldorf
DESCRIPTION:
URL:https://www.fahrschule-korn.de/termin/grundunterricht-muehldorf/2024-02-20/
LOCATION:Standort Mühldorf\, Mainstraße 44\, Mühldorf a. Inn\, Bayern\, 84453
CATEGORIES:Grundunterricht
ORGANIZER;CN="Fahrschule Korn":MAILTO:info@fahrschule-korn.de
END:VEVENT
BEGIN:VEVENT
DTSTART;TZID=Europe/Berlin:20240221T183000
DTEND;TZID=Europe/Berlin:20240221T200000
DTSTAMP:20260425T013203
CREATED:20230404T182725Z
LAST-MODIFIED:20240130T100245Z
UID:10000945-1708540200-1708545600@www.fahrschule-korn.de
SUMMARY:Grundunterricht Buchbach
DESCRIPTION:
URL:https://www.fahrschule-korn.de/termin/grundunterricht-buchbach/2024-02-21/
LOCATION:Standort Buchbach\, Andreas-Strobl-Straße 2\, Buchbach\, Bayern\, 84428
CATEGORIES:Grundunterricht
ORGANIZER;CN="Fahrschule Korn":MAILTO:info@fahrschule-korn.de
END:VEVENT
BEGIN:VEVENT
DTSTART;TZID=Europe/Berlin:20240222T183000
DTEND;TZID=Europe/Berlin:20240222T200000
DTSTAMP:20260425T013203
CREATED:20230404T182551Z
LAST-MODIFIED:20240130T101057Z
UID:10000396-1708626600-1708632000@www.fahrschule-korn.de
SUMMARY:Grundunterricht Mühldorf
DESCRIPTION:
URL:https://www.fahrschule-korn.de/termin/grundunterricht-muehldorf/2024-02-22/
LOCATION:Standort Mühldorf\, Mainstraße 44\, Mühldorf a. Inn\, Bayern\, 84453
CATEGORIES:Grundunterricht
ORGANIZER;CN="Fahrschule Korn":MAILTO:info@fahrschule-korn.de
END:VEVENT
BEGIN:VEVENT
DTSTART;TZID=Europe/Berlin:20240224T080000
DTEND;TZID=Europe/Berlin:20240224T160000
DTSTAMP:20260425T013203
CREATED:20230309T213401Z
LAST-MODIFIED:20240130T094622Z
UID:10001378-1708761600-1708790400@www.fahrschule-korn.de
SUMMARY:Berufskraftfahrer Weiterbildung
DESCRIPTION:
URL:https://www.fahrschule-korn.de/termin/berufskraftfahrer-weiterbildung/2024-02-24/
LOCATION:Standort Mühldorf\, Mainstraße 44\, Mühldorf a. Inn\, Bayern\, 84453
CATEGORIES:Berufskraftfahrer Weiterbildung
ORGANIZER;CN="Fahrschule Korn":MAILTO:info@fahrschule-korn.de
END:VEVENT
BEGIN:VEVENT
DTSTART;TZID=Europe/Berlin:20240226T183000
DTEND;TZID=Europe/Berlin:20240226T200000
DTSTAMP:20260425T013203
CREATED:20230404T182725Z
LAST-MODIFIED:20240130T100245Z
UID:10000946-1708972200-1708977600@www.fahrschule-korn.de
SUMMARY:Grundunterricht Buchbach
DESCRIPTION:
URL:https://www.fahrschule-korn.de/termin/grundunterricht-buchbach/2024-02-26/
LOCATION:Standort Buchbach\, Andreas-Strobl-Straße 2\, Buchbach\, Bayern\, 84428
CATEGORIES:Grundunterricht
ORGANIZER;CN="Fahrschule Korn":MAILTO:info@fahrschule-korn.de
END:VEVENT
BEGIN:VEVENT
DTSTART;TZID=Europe/Berlin:20240227T183000
DTEND;TZID=Europe/Berlin:20240227T200000
DTSTAMP:20260425T013203
CREATED:20230404T182551Z
LAST-MODIFIED:20240130T101057Z
UID:10000397-1709058600-1709064000@www.fahrschule-korn.de
SUMMARY:Grundunterricht Mühldorf
DESCRIPTION:
URL:https://www.fahrschule-korn.de/termin/grundunterricht-muehldorf/2024-02-27/
LOCATION:Standort Mühldorf\, Mainstraße 44\, Mühldorf a. Inn\, Bayern\, 84453
CATEGORIES:Grundunterricht
ORGANIZER;CN="Fahrschule Korn":MAILTO:info@fahrschule-korn.de
END:VEVENT
BEGIN:VEVENT
DTSTART;TZID=Europe/Berlin:20240228T183000
DTEND;TZID=Europe/Berlin:20240228T200000
DTSTAMP:20260425T013203
CREATED:20230404T182725Z
LAST-MODIFIED:20240130T100245Z
UID:10000947-1709145000-1709150400@www.fahrschule-korn.de
SUMMARY:Grundunterricht Buchbach
DESCRIPTION:
URL:https://www.fahrschule-korn.de/termin/grundunterricht-buchbach/2024-02-28/
LOCATION:Standort Buchbach\, Andreas-Strobl-Straße 2\, Buchbach\, Bayern\, 84428
CATEGORIES:Grundunterricht
ORGANIZER;CN="Fahrschule Korn":MAILTO:info@fahrschule-korn.de
END:VEVENT
BEGIN:VEVENT
DTSTART;TZID=Europe/Berlin:20240229T183000
DTEND;TZID=Europe/Berlin:20240229T200000
DTSTAMP:20260425T013203
CREATED:20230404T182551Z
LAST-MODIFIED:20240130T101057Z
UID:10000398-1709231400-1709236800@www.fahrschule-korn.de
SUMMARY:Grundunterricht Mühldorf
DESCRIPTION:
URL:https://www.fahrschule-korn.de/termin/grundunterricht-muehldorf/2024-02-29/
LOCATION:Standort Mühldorf\, Mainstraße 44\, Mühldorf a. Inn\, Bayern\, 84453
CATEGORIES:Grundunterricht
ORGANIZER;CN="Fahrschule Korn":MAILTO:info@fahrschule-korn.de
END:VEVENT
END:VCALENDAR