BEGIN:VCALENDAR
VERSION:2.0
PRODID:-//Fahrschule Korn - ECPv6.13.2.1//NONSGML v1.0//EN
CALSCALE:GREGORIAN
METHOD:PUBLISH
X-ORIGINAL-URL:https://www.fahrschule-korn.de
X-WR-CALDESC:Veranstaltungen für Fahrschule Korn
REFRESH-INTERVAL;VALUE=DURATION:PT1H
X-Robots-Tag:noindex
X-PUBLISHED-TTL:PT1H
BEGIN:VTIMEZONE
TZID:Europe/Berlin
BEGIN:DAYLIGHT
TZOFFSETFROM:+0100
TZOFFSETTO:+0200
TZNAME:CEST
DTSTART:20230326T010000
END:DAYLIGHT
BEGIN:STANDARD
TZOFFSETFROM:+0200
TZOFFSETTO:+0100
TZNAME:CET
DTSTART:20231029T010000
END:STANDARD
END:VTIMEZONE
BEGIN:VEVENT
DTSTART;TZID=Europe/Berlin:20230403T183000
DTEND;TZID=Europe/Berlin:20230403T200000
DTSTAMP:20260425T234911
CREATED:20230404T182725Z
LAST-MODIFIED:20240130T100245Z
UID:10000852-1680546600-1680552000@www.fahrschule-korn.de
SUMMARY:Grundunterricht Buchbach
DESCRIPTION:
URL:https://www.fahrschule-korn.de/termin/grundunterricht-buchbach/2023-04-03/
LOCATION:Standort Buchbach\, Andreas-Strobl-Straße 2\, Buchbach\, Bayern\, 84428
CATEGORIES:Grundunterricht
ORGANIZER;CN="Fahrschule Korn":MAILTO:info@fahrschule-korn.de
END:VEVENT
BEGIN:VEVENT
DTSTART;TZID=Europe/Berlin:20230404T183000
DTEND;TZID=Europe/Berlin:20230404T200000
DTSTAMP:20260425T234911
CREATED:20230404T182551Z
LAST-MODIFIED:20240130T101057Z
UID:10000303-1680633000-1680638400@www.fahrschule-korn.de
SUMMARY:Grundunterricht Mühldorf
DESCRIPTION:
URL:https://www.fahrschule-korn.de/termin/grundunterricht-muehldorf/2023-04-04/
LOCATION:Standort Mühldorf\, Mainstraße 44\, Mühldorf a. Inn\, Bayern\, 84453
CATEGORIES:Grundunterricht
ORGANIZER;CN="Fahrschule Korn":MAILTO:info@fahrschule-korn.de
END:VEVENT
BEGIN:VEVENT
DTSTART;TZID=Europe/Berlin:20230405T183000
DTEND;TZID=Europe/Berlin:20230405T200000
DTSTAMP:20260425T234911
CREATED:20230404T182725Z
LAST-MODIFIED:20240130T100245Z
UID:10000853-1680719400-1680724800@www.fahrschule-korn.de
SUMMARY:Grundunterricht Buchbach
DESCRIPTION:
URL:https://www.fahrschule-korn.de/termin/grundunterricht-buchbach/2023-04-05/
LOCATION:Standort Buchbach\, Andreas-Strobl-Straße 2\, Buchbach\, Bayern\, 84428
CATEGORIES:Grundunterricht
ORGANIZER;CN="Fahrschule Korn":MAILTO:info@fahrschule-korn.de
END:VEVENT
BEGIN:VEVENT
DTSTART;TZID=Europe/Berlin:20230406T183000
DTEND;TZID=Europe/Berlin:20230406T200000
DTSTAMP:20260425T234911
CREATED:20230404T182551Z
LAST-MODIFIED:20240130T101057Z
UID:10000304-1680805800-1680811200@www.fahrschule-korn.de
SUMMARY:Grundunterricht Mühldorf
DESCRIPTION:
URL:https://www.fahrschule-korn.de/termin/grundunterricht-muehldorf/2023-04-06/
LOCATION:Standort Mühldorf\, Mainstraße 44\, Mühldorf a. Inn\, Bayern\, 84453
CATEGORIES:Grundunterricht
ORGANIZER;CN="Fahrschule Korn":MAILTO:info@fahrschule-korn.de
END:VEVENT
BEGIN:VEVENT
DTSTART;TZID=Europe/Berlin:20230410T183000
DTEND;TZID=Europe/Berlin:20230410T200000
DTSTAMP:20260425T234911
CREATED:20230404T182725Z
LAST-MODIFIED:20240130T100245Z
UID:10000854-1681151400-1681156800@www.fahrschule-korn.de
SUMMARY:Grundunterricht Buchbach
DESCRIPTION:
URL:https://www.fahrschule-korn.de/termin/grundunterricht-buchbach/2023-04-10/
LOCATION:Standort Buchbach\, Andreas-Strobl-Straße 2\, Buchbach\, Bayern\, 84428
CATEGORIES:Grundunterricht
ORGANIZER;CN="Fahrschule Korn":MAILTO:info@fahrschule-korn.de
END:VEVENT
BEGIN:VEVENT
DTSTART;TZID=Europe/Berlin:20230411T183000
DTEND;TZID=Europe/Berlin:20230411T200000
DTSTAMP:20260425T234911
CREATED:20230404T182551Z
LAST-MODIFIED:20240130T101057Z
UID:10000305-1681237800-1681243200@www.fahrschule-korn.de
SUMMARY:Grundunterricht Mühldorf
DESCRIPTION:
URL:https://www.fahrschule-korn.de/termin/grundunterricht-muehldorf/2023-04-11/
LOCATION:Standort Mühldorf\, Mainstraße 44\, Mühldorf a. Inn\, Bayern\, 84453
CATEGORIES:Grundunterricht
ORGANIZER;CN="Fahrschule Korn":MAILTO:info@fahrschule-korn.de
END:VEVENT
BEGIN:VEVENT
DTSTART;TZID=Europe/Berlin:20230412T183000
DTEND;TZID=Europe/Berlin:20230412T200000
DTSTAMP:20260425T234911
CREATED:20230404T182725Z
LAST-MODIFIED:20240130T100245Z
UID:10000855-1681324200-1681329600@www.fahrschule-korn.de
SUMMARY:Grundunterricht Buchbach
DESCRIPTION:
URL:https://www.fahrschule-korn.de/termin/grundunterricht-buchbach/2023-04-12/
LOCATION:Standort Buchbach\, Andreas-Strobl-Straße 2\, Buchbach\, Bayern\, 84428
CATEGORIES:Grundunterricht
ORGANIZER;CN="Fahrschule Korn":MAILTO:info@fahrschule-korn.de
END:VEVENT
BEGIN:VEVENT
DTSTART;TZID=Europe/Berlin:20230413T183000
DTEND;TZID=Europe/Berlin:20230413T200000
DTSTAMP:20260425T234911
CREATED:20230404T182551Z
LAST-MODIFIED:20240130T101057Z
UID:10000306-1681410600-1681416000@www.fahrschule-korn.de
SUMMARY:Grundunterricht Mühldorf
DESCRIPTION:
URL:https://www.fahrschule-korn.de/termin/grundunterricht-muehldorf/2023-04-13/
LOCATION:Standort Mühldorf\, Mainstraße 44\, Mühldorf a. Inn\, Bayern\, 84453
CATEGORIES:Grundunterricht
ORGANIZER;CN="Fahrschule Korn":MAILTO:info@fahrschule-korn.de
END:VEVENT
BEGIN:VEVENT
DTSTART;TZID=Europe/Berlin:20230417T183000
DTEND;TZID=Europe/Berlin:20230417T200000
DTSTAMP:20260425T234911
CREATED:20230404T182725Z
LAST-MODIFIED:20240130T100245Z
UID:10000856-1681756200-1681761600@www.fahrschule-korn.de
SUMMARY:Grundunterricht Buchbach
DESCRIPTION:
URL:https://www.fahrschule-korn.de/termin/grundunterricht-buchbach/2023-04-17/
LOCATION:Standort Buchbach\, Andreas-Strobl-Straße 2\, Buchbach\, Bayern\, 84428
CATEGORIES:Grundunterricht
ORGANIZER;CN="Fahrschule Korn":MAILTO:info@fahrschule-korn.de
END:VEVENT
BEGIN:VEVENT
DTSTART;TZID=Europe/Berlin:20230418T183000
DTEND;TZID=Europe/Berlin:20230418T200000
DTSTAMP:20260425T234911
CREATED:20230404T182551Z
LAST-MODIFIED:20240130T101057Z
UID:10000307-1681842600-1681848000@www.fahrschule-korn.de
SUMMARY:Grundunterricht Mühldorf
DESCRIPTION:
URL:https://www.fahrschule-korn.de/termin/grundunterricht-muehldorf/2023-04-18/
LOCATION:Standort Mühldorf\, Mainstraße 44\, Mühldorf a. Inn\, Bayern\, 84453
CATEGORIES:Grundunterricht
ORGANIZER;CN="Fahrschule Korn":MAILTO:info@fahrschule-korn.de
END:VEVENT
BEGIN:VEVENT
DTSTART;TZID=Europe/Berlin:20230419T183000
DTEND;TZID=Europe/Berlin:20230419T200000
DTSTAMP:20260425T234911
CREATED:20230404T182725Z
LAST-MODIFIED:20240130T100245Z
UID:10000857-1681929000-1681934400@www.fahrschule-korn.de
SUMMARY:Grundunterricht Buchbach
DESCRIPTION:
URL:https://www.fahrschule-korn.de/termin/grundunterricht-buchbach/2023-04-19/
LOCATION:Standort Buchbach\, Andreas-Strobl-Straße 2\, Buchbach\, Bayern\, 84428
CATEGORIES:Grundunterricht
ORGANIZER;CN="Fahrschule Korn":MAILTO:info@fahrschule-korn.de
END:VEVENT
BEGIN:VEVENT
DTSTART;TZID=Europe/Berlin:20230420T183000
DTEND;TZID=Europe/Berlin:20230420T200000
DTSTAMP:20260425T234911
CREATED:20230404T182551Z
LAST-MODIFIED:20240130T101057Z
UID:10000308-1682015400-1682020800@www.fahrschule-korn.de
SUMMARY:Grundunterricht Mühldorf
DESCRIPTION:
URL:https://www.fahrschule-korn.de/termin/grundunterricht-muehldorf/2023-04-20/
LOCATION:Standort Mühldorf\, Mainstraße 44\, Mühldorf a. Inn\, Bayern\, 84453
CATEGORIES:Grundunterricht
ORGANIZER;CN="Fahrschule Korn":MAILTO:info@fahrschule-korn.de
END:VEVENT
BEGIN:VEVENT
DTSTART;TZID=Europe/Berlin:20230424T183000
DTEND;TZID=Europe/Berlin:20230424T200000
DTSTAMP:20260425T234911
CREATED:20230404T182725Z
LAST-MODIFIED:20240130T100245Z
UID:10000858-1682361000-1682366400@www.fahrschule-korn.de
SUMMARY:Grundunterricht Buchbach
DESCRIPTION:
URL:https://www.fahrschule-korn.de/termin/grundunterricht-buchbach/2023-04-24/
LOCATION:Standort Buchbach\, Andreas-Strobl-Straße 2\, Buchbach\, Bayern\, 84428
CATEGORIES:Grundunterricht
ORGANIZER;CN="Fahrschule Korn":MAILTO:info@fahrschule-korn.de
END:VEVENT
BEGIN:VEVENT
DTSTART;TZID=Europe/Berlin:20230425T183000
DTEND;TZID=Europe/Berlin:20230425T200000
DTSTAMP:20260425T234911
CREATED:20230404T182551Z
LAST-MODIFIED:20240130T101057Z
UID:10000309-1682447400-1682452800@www.fahrschule-korn.de
SUMMARY:Grundunterricht Mühldorf
DESCRIPTION:
URL:https://www.fahrschule-korn.de/termin/grundunterricht-muehldorf/2023-04-25/
LOCATION:Standort Mühldorf\, Mainstraße 44\, Mühldorf a. Inn\, Bayern\, 84453
CATEGORIES:Grundunterricht
ORGANIZER;CN="Fahrschule Korn":MAILTO:info@fahrschule-korn.de
END:VEVENT
BEGIN:VEVENT
DTSTART;TZID=Europe/Berlin:20230426T183000
DTEND;TZID=Europe/Berlin:20230426T200000
DTSTAMP:20260425T234911
CREATED:20230404T182725Z
LAST-MODIFIED:20240130T100245Z
UID:10000859-1682533800-1682539200@www.fahrschule-korn.de
SUMMARY:Grundunterricht Buchbach
DESCRIPTION:
URL:https://www.fahrschule-korn.de/termin/grundunterricht-buchbach/2023-04-26/
LOCATION:Standort Buchbach\, Andreas-Strobl-Straße 2\, Buchbach\, Bayern\, 84428
CATEGORIES:Grundunterricht
ORGANIZER;CN="Fahrschule Korn":MAILTO:info@fahrschule-korn.de
END:VEVENT
BEGIN:VEVENT
DTSTART;TZID=Europe/Berlin:20230427T183000
DTEND;TZID=Europe/Berlin:20230427T200000
DTSTAMP:20260425T234911
CREATED:20230404T182551Z
LAST-MODIFIED:20240130T101057Z
UID:10000310-1682620200-1682625600@www.fahrschule-korn.de
SUMMARY:Grundunterricht Mühldorf
DESCRIPTION:
URL:https://www.fahrschule-korn.de/termin/grundunterricht-muehldorf/2023-04-27/
LOCATION:Standort Mühldorf\, Mainstraße 44\, Mühldorf a. Inn\, Bayern\, 84453
CATEGORIES:Grundunterricht
ORGANIZER;CN="Fahrschule Korn":MAILTO:info@fahrschule-korn.de
END:VEVENT
END:VCALENDAR